BEGIN:VCALENDAR
VERSION:2.0
PRODID:-//HEMEL HEMPSTEAD PHOTOGRAPHIC SOCIETY - ECPv6.15.20//NONSGML v1.0//EN
CALSCALE:GREGORIAN
METHOD:PUBLISH
X-ORIGINAL-URL:https://hhps.org.uk
X-WR-CALDESC:Events for HEMEL HEMPSTEAD PHOTOGRAPHIC SOCIETY
REFRESH-INTERVAL;VALUE=DURATION:PT1H
X-Robots-Tag:noindex
X-PUBLISHED-TTL:PT1H
BEGIN:VTIMEZONE
TZID:Europe/London
BEGIN:DAYLIGHT
TZOFFSETFROM:+0000
TZOFFSETTO:+0100
TZNAME:BST
DTSTART:20250330T010000
END:DAYLIGHT
BEGIN:STANDARD
TZOFFSETFROM:+0100
TZOFFSETTO:+0000
TZNAME:GMT
DTSTART:20251026T010000
END:STANDARD
BEGIN:DAYLIGHT
TZOFFSETFROM:+0000
TZOFFSETTO:+0100
TZNAME:BST
DTSTART:20260329T010000
END:DAYLIGHT
BEGIN:STANDARD
TZOFFSETFROM:+0100
TZOFFSETTO:+0000
TZNAME:GMT
DTSTART:20261025T010000
END:STANDARD
BEGIN:DAYLIGHT
TZOFFSETFROM:+0000
TZOFFSETTO:+0100
TZNAME:BST
DTSTART:20270328T010000
END:DAYLIGHT
BEGIN:STANDARD
TZOFFSETFROM:+0100
TZOFFSETTO:+0000
TZNAME:GMT
DTSTART:20271031T010000
END:STANDARD
END:VTIMEZONE
BEGIN:VEVENT
DTSTART;TZID=Europe/London:20260416T193000
DTEND;TZID=Europe/London:20260416T220000
DTSTAMP:20260422T014636
CREATED:20260103T142246Z
LAST-MODIFIED:20260103T142253Z
UID:12664-1776367800-1776376800@hhps.org.uk
SUMMARY:Studio Shoot of 1-1 Portraits with model - Thursday
DESCRIPTION:Model TBD. A max of 6 members can shoot.Run by John Marshall and Rob Harley
URL:https://hhps.org.uk/event/studio-shoot-of-1-1-portraits-with-model-thursday/
END:VEVENT
END:VCALENDAR