BEGIN:VCALENDAR
VERSION:2.0
PRODID:-//HEMEL HEMPSTEAD PHOTOGRAPHIC SOCIETY - ECPv6.15.20//NONSGML v1.0//EN
CALSCALE:GREGORIAN
METHOD:PUBLISH
X-WR-CALNAME:HEMEL HEMPSTEAD PHOTOGRAPHIC SOCIETY
X-ORIGINAL-URL:https://hhps.org.uk
X-WR-CALDESC:Events for HEMEL HEMPSTEAD PHOTOGRAPHIC SOCIETY
REFRESH-INTERVAL;VALUE=DURATION:PT1H
X-Robots-Tag:noindex
X-PUBLISHED-TTL:PT1H
BEGIN:VTIMEZONE
TZID:Europe/London
BEGIN:DAYLIGHT
TZOFFSETFROM:+0000
TZOFFSETTO:+0100
TZNAME:BST
DTSTART:20250330T010000
END:DAYLIGHT
BEGIN:STANDARD
TZOFFSETFROM:+0100
TZOFFSETTO:+0000
TZNAME:GMT
DTSTART:20251026T010000
END:STANDARD
BEGIN:DAYLIGHT
TZOFFSETFROM:+0000
TZOFFSETTO:+0100
TZNAME:BST
DTSTART:20260329T010000
END:DAYLIGHT
BEGIN:STANDARD
TZOFFSETFROM:+0100
TZOFFSETTO:+0000
TZNAME:GMT
DTSTART:20261025T010000
END:STANDARD
BEGIN:DAYLIGHT
TZOFFSETFROM:+0000
TZOFFSETTO:+0100
TZNAME:BST
DTSTART:20270328T010000
END:DAYLIGHT
BEGIN:STANDARD
TZOFFSETFROM:+0100
TZOFFSETTO:+0000
TZNAME:GMT
DTSTART:20271031T010000
END:STANDARD
END:VTIMEZONE
BEGIN:VEVENT
DTSTART;TZID=Europe/London:20260608T193000
DTEND;TZID=Europe/London:20260608T220000
DTSTAMP:20260422T231518
CREATED:20260103T150553Z
LAST-MODIFIED:20260103T150558Z
UID:12683-1780947000-1780956000@hhps.org.uk
SUMMARY:Social: Hidden Secrets Tour in Old Amersham
DESCRIPTION:Hear interesting facts curated by Emyr.Bring your cameras.
URL:https://hhps.org.uk/event/social-hidden-secrets-tour-in-old-amersham/
END:VEVENT
BEGIN:VEVENT
DTSTART;TZID=Europe/London:20260615T193000
DTEND;TZID=Europe/London:20260615T220000
DTSTAMP:20260422T231518
CREATED:20260103T150659Z
LAST-MODIFIED:20260103T150704Z
UID:12685-1781551800-1781560800@hhps.org.uk
SUMMARY:Annual Awards Commentary
DESCRIPTION:Judge: Lloyd Moore
URL:https://hhps.org.uk/event/annual-awards-commentary-4/
END:VEVENT
BEGIN:VEVENT
DTSTART;TZID=Europe/London:20260622T080000
DTEND;TZID=Europe/London:20260622T220000
DTSTAMP:20260422T231518
CREATED:20260103T150803Z
LAST-MODIFIED:20260103T150806Z
UID:12687-1782115200-1782165600@hhps.org.uk
SUMMARY:AGM
DESCRIPTION:
URL:https://hhps.org.uk/event/agm-5/
END:VEVENT
BEGIN:VEVENT
DTSTART;TZID=Europe/London:20260628T000000
DTEND;TZID=Europe/London:20260831T235959
DTSTAMP:20260422T231518
CREATED:20260103T152204Z
LAST-MODIFIED:20260103T153626Z
UID:12696-1782604800-1788220799@hhps.org.uk
SUMMARY:Summer Holiday Photo Challenge PDI
DESCRIPTION:These images need to be taken after 1st June 2026 and will need to be registered by 31st August. Images can be of any subject and be either colour or mono. They should follow normal PDI format and naming. The images will be critiqued by members
URL:https://hhps.org.uk/event/summer-holiday-photo-challenge-pdi/
END:VEVENT
BEGIN:VEVENT
DTSTART;TZID=Europe/London:20260629T000000
DTEND;TZID=Europe/London:20260831T235959
DTSTAMP:20260422T231518
CREATED:20260103T151235Z
LAST-MODIFIED:20260103T151240Z
UID:12689-1782691200-1788220799@hhps.org.uk
SUMMARY:Summer Break
DESCRIPTION:See you 7th September for New Season
URL:https://hhps.org.uk/event/summer-break-4/
END:VEVENT
BEGIN:VEVENT
DTSTART;TZID=Europe/London:20260831T000000
DTEND;TZID=Europe/London:20260831T235959
DTSTAMP:20260422T231518
CREATED:20260103T152519Z
LAST-MODIFIED:20260103T152743Z
UID:12698-1788134400-1788220799@hhps.org.uk
SUMMARY:Last date to submit "Summer Challenge" PDI images
DESCRIPTION:Submit upto 3 PDI Images taken since 1st June 2026
URL:https://hhps.org.uk/event/last-date-to-submit-summer-challenge-pdi-images-2/
END:VEVENT
BEGIN:VEVENT
DTSTART;TZID=Europe/London:20260907T194500
DTEND;TZID=Europe/London:20260907T220000
DTSTAMP:20260422T231518
CREATED:20260103T153118Z
LAST-MODIFIED:20260103T153126Z
UID:12701-1788810300-1788818400@hhps.org.uk
SUMMARY:Welcome to Our New Season - Presentation of Awards 2025/2026\, Summer Holiday Images.
DESCRIPTION:
URL:https://hhps.org.uk/event/welcome-to-our-new-season-presentation-of-awards-2025-2026-summer-holiday-images/
END:VEVENT
END:VCALENDAR