BEGIN:VCALENDAR
VERSION:2.0
PRODID:-//HEMEL HEMPSTEAD PHOTOGRAPHIC SOCIETY - ECPv6.15.20//NONSGML v1.0//EN
CALSCALE:GREGORIAN
METHOD:PUBLISH
X-WR-CALNAME:HEMEL HEMPSTEAD PHOTOGRAPHIC SOCIETY
X-ORIGINAL-URL:https://hhps.org.uk
X-WR-CALDESC:Events for HEMEL HEMPSTEAD PHOTOGRAPHIC SOCIETY
REFRESH-INTERVAL;VALUE=DURATION:PT1H
X-Robots-Tag:noindex
X-PUBLISHED-TTL:PT1H
BEGIN:VTIMEZONE
TZID:Europe/London
BEGIN:DAYLIGHT
TZOFFSETFROM:+0000
TZOFFSETTO:+0100
TZNAME:BST
DTSTART:20240331T010000
END:DAYLIGHT
BEGIN:STANDARD
TZOFFSETFROM:+0100
TZOFFSETTO:+0000
TZNAME:GMT
DTSTART:20241027T010000
END:STANDARD
BEGIN:DAYLIGHT
TZOFFSETFROM:+0000
TZOFFSETTO:+0100
TZNAME:BST
DTSTART:20250330T010000
END:DAYLIGHT
BEGIN:STANDARD
TZOFFSETFROM:+0100
TZOFFSETTO:+0000
TZNAME:GMT
DTSTART:20251026T010000
END:STANDARD
BEGIN:DAYLIGHT
TZOFFSETFROM:+0000
TZOFFSETTO:+0100
TZNAME:BST
DTSTART:20260329T010000
END:DAYLIGHT
BEGIN:STANDARD
TZOFFSETFROM:+0100
TZOFFSETTO:+0000
TZNAME:GMT
DTSTART:20261025T010000
END:STANDARD
END:VTIMEZONE
BEGIN:VEVENT
DTSTART;TZID=Europe/London:20250901T194500
DTEND;TZID=Europe/London:20250901T220000
DTSTAMP:20260423T125807
CREATED:20220610T074438Z
LAST-MODIFIED:20250715T203756Z
UID:9479-1756755900-1756764000@hhps.org.uk
SUMMARY:Welcome to Our New Season      - Presentation of Awards 2024/2025\,     Summer Holiday Images.
DESCRIPTION:Please Login to view this content. (Not a member? Join Today!)
URL:https://hhps.org.uk/event/welcome-to-our-new-season-presentation-of-awards-2021-222-summer-holiday-images-members-comments/
END:VEVENT
BEGIN:VEVENT
DTSTART;TZID=Europe/London:20250825T080000
DTEND;TZID=Europe/London:20250825T170000
DTSTAMP:20260423T125807
CREATED:20230630T100125Z
LAST-MODIFIED:20250715T203529Z
UID:10501-1756108800-1756141200@hhps.org.uk
SUMMARY:Last date to submit "Summer Challenge" PDI images
DESCRIPTION:Please Login to view this content. (Not a member? Join Today!)
URL:https://hhps.org.uk/event/last-date-to-submit-summer-challenge-pdi-images/
END:VEVENT
BEGIN:VEVENT
DTSTART;TZID=Europe/London:20250630T000000
DTEND;TZID=Europe/London:20250825T235959
DTSTAMP:20260423T125807
CREATED:20250128T110929Z
LAST-MODIFIED:20250128T110930Z
UID:11908-1751241600-1756166399@hhps.org.uk
SUMMARY:Summer Break
DESCRIPTION:Please Login to view this content. (Not a member? Join Today!)
URL:https://hhps.org.uk/event/summer-break-3/
END:VEVENT
BEGIN:VEVENT
DTSTART;TZID=Europe/London:20250623T194500
DTEND;TZID=Europe/London:20250623T220000
DTSTAMP:20260423T125807
CREATED:20250122T121230Z
LAST-MODIFIED:20250122T121231Z
UID:11882-1750707900-1750716000@hhps.org.uk
SUMMARY:AGM
DESCRIPTION:Please Login to view this content. (Not a member? Join Today!)
URL:https://hhps.org.uk/event/agm-4/
END:VEVENT
BEGIN:VEVENT
DTSTART;TZID=Europe/London:20250616T194500
DTEND;TZID=Europe/London:20250616T220000
DTSTAMP:20260423T125807
CREATED:20250122T121143Z
LAST-MODIFIED:20250122T121144Z
UID:11880-1750103100-1750111200@hhps.org.uk
SUMMARY:Annual Awards Commentary
DESCRIPTION:Please Login to view this content. (Not a member? Join Today!)
URL:https://hhps.org.uk/event/annual-awards-commentary-3/
END:VEVENT
BEGIN:VEVENT
DTSTART;TZID=Europe/London:20250609T193000
DTEND;TZID=Europe/London:20250609T220000
DTSTAMP:20260423T125807
CREATED:20250122T121047Z
LAST-MODIFIED:20250122T121048Z
UID:11878-1749497400-1749506400@hhps.org.uk
SUMMARY:Social: Hidden Secrets Tour in Berko
DESCRIPTION:Please Login to view this content. (Not a member? Join Today!)
URL:https://hhps.org.uk/event/social-hidden-secrets-tour-in-berko/
END:VEVENT
BEGIN:VEVENT
DTSTART;TZID=Europe/London:20250602T193000
DTEND;TZID=Europe/London:20250602T220000
DTSTAMP:20260423T125807
CREATED:20250122T120943Z
LAST-MODIFIED:20250122T120944Z
UID:11876-1748892600-1748901600@hhps.org.uk
SUMMARY:Social: Summer Walk around Ashridge
DESCRIPTION:Please Login to view this content. (Not a member? Join Today!)
URL:https://hhps.org.uk/event/social-summer-walk-around-ashridge/
END:VEVENT
BEGIN:VEVENT
DTSTART;TZID=Europe/London:20250526T193000
DTEND;TZID=Europe/London:20250526T220000
DTSTAMP:20260423T125807
CREATED:20250122T120842Z
LAST-MODIFIED:20250122T120843Z
UID:11874-1748287800-1748296800@hhps.org.uk
SUMMARY:No Meeting - Bank Holiday
DESCRIPTION:Please Login to view this content. (Not a member? Join Today!)
URL:https://hhps.org.uk/event/no-meeting-bank-holiday-7/
END:VEVENT
BEGIN:VEVENT
DTSTART;TZID=Europe/London:20250519T194500
DTEND;TZID=Europe/London:20250519T220000
DTSTAMP:20260423T125807
CREATED:20250122T120800Z
LAST-MODIFIED:20250122T120801Z
UID:11872-1747683900-1747692000@hhps.org.uk
SUMMARY:Set Subject Competition: "Two or more people\, not a crowd"
DESCRIPTION:Please Login to view this content. (Not a member? Join Today!)
URL:https://hhps.org.uk/event/set-subject-competition-two-or-more-people-not-a-crowd/
END:VEVENT
BEGIN:VEVENT
DTSTART;TZID=Europe/London:20250515T194500
DTEND;TZID=Europe/London:20250515T220000
DTSTAMP:20260423T125807
CREATED:20250122T120638Z
LAST-MODIFIED:20250122T120641Z
UID:11870-1747338300-1747346400@hhps.org.uk
SUMMARY:Studio Shoot of 1-1 Portraits with a model. - Thur
DESCRIPTION:Please Login to view this content. (Not a member? Join Today!)
URL:https://hhps.org.uk/event/studio-shoot-of-1-1-portraits-with-a-model-thur/
END:VEVENT
BEGIN:VEVENT
DTSTART;TZID=Europe/London:20250512T194500
DTEND;TZID=Europe/London:20250512T220000
DTSTAMP:20260423T125807
CREATED:20250122T120504Z
LAST-MODIFIED:20250419T145203Z
UID:11868-1747079100-1747087200@hhps.org.uk
SUMMARY:Members’ Evening:  I Was Robbed.
DESCRIPTION:Please Login to view this content. (Not a member? Join Today!)
URL:https://hhps.org.uk/event/members-evening-i-was-robbed-2/
END:VEVENT
BEGIN:VEVENT
DTSTART;TZID=Europe/London:20250505T193000
DTEND;TZID=Europe/London:20250505T220000
DTSTAMP:20260423T125807
CREATED:20250122T120323Z
LAST-MODIFIED:20250419T145333Z
UID:11866-1746473400-1746482400@hhps.org.uk
SUMMARY:No Meeting - Bank Holiday
DESCRIPTION:Please Login to view this content. (Not a member? Join Today!)
URL:https://hhps.org.uk/event/no-meeting-bank-holiday-6/
END:VEVENT
BEGIN:VEVENT
DTSTART;TZID=Europe/London:20250428T194500
DTEND;TZID=Europe/London:20250428T220000
DTSTAMP:20260423T125807
CREATED:20250122T120115Z
LAST-MODIFIED:20250122T120116Z
UID:11862-1745869500-1745877600@hhps.org.uk
SUMMARY:4th Mono Print Competition
DESCRIPTION:Please Login to view this content. (Not a member? Join Today!)
URL:https://hhps.org.uk/event/4th-mono-print-competition-3/
END:VEVENT
BEGIN:VEVENT
DTSTART;TZID=Europe/London:20250427T080000
DTEND;TZID=Europe/London:20250427T170000
DTSTAMP:20260423T125807
CREATED:20250122T115558Z
LAST-MODIFIED:20250122T115559Z
UID:11856-1745740800-1745773200@hhps.org.uk
SUMMARY:Rosebowl Day at Amersham. - Sunday
DESCRIPTION:Please Login to view this content. (Not a member? Join Today!)
URL:https://hhps.org.uk/event/rosebowl-day-at-amersham-sunday/
END:VEVENT
BEGIN:VEVENT
DTSTART;TZID=Europe/London:20250421T193000
DTEND;TZID=Europe/London:20250421T220000
DTSTAMP:20260423T125807
CREATED:20250122T115407Z
LAST-MODIFIED:20250122T115408Z
UID:11854-1745263800-1745272800@hhps.org.uk
SUMMARY:No Meeting - Bank Holiday.
DESCRIPTION:Please Login to view this content. (Not a member? Join Today!)
URL:https://hhps.org.uk/event/no-meeting-bank-holiday-5/
END:VEVENT
BEGIN:VEVENT
DTSTART;TZID=Europe/London:20250417T194500
DTEND;TZID=Europe/London:20250417T220000
DTSTAMP:20260423T125807
CREATED:20250122T115305Z
LAST-MODIFIED:20250122T115306Z
UID:11852-1744919100-1744927200@hhps.org.uk
SUMMARY:Studio Shoot of 1-1 Portraits with a model. 
DESCRIPTION:Please Login to view this content. (Not a member? Join Today!)
URL:https://hhps.org.uk/event/studio-shoot-of-1-1-portraits-with-a-model/
END:VEVENT
BEGIN:VEVENT
DTSTART;TZID=Europe/London:20250414T194500
DTEND;TZID=Europe/London:20250414T220000
DTSTAMP:20260423T125807
CREATED:20250122T115145Z
LAST-MODIFIED:20250122T115146Z
UID:11850-1744659900-1744668000@hhps.org.uk
SUMMARY:4th Colour Print Competition
DESCRIPTION:Please Login to view this content. (Not a member? Join Today!)
URL:https://hhps.org.uk/event/4th-colour-print-competition-2/
END:VEVENT
BEGIN:VEVENT
DTSTART;TZID=Europe/London:20250413T080000
DTEND;TZID=Europe/London:20250413T170000
DTSTAMP:20260423T125807
CREATED:20250122T115924Z
LAST-MODIFIED:20250122T115928Z
UID:11860-1744531200-1744563600@hhps.org.uk
SUMMARY:Rosebowl Day
DESCRIPTION:Please Login to view this content. (Not a member? Join Today!)
URL:https://hhps.org.uk/event/rosebowl-day/
END:VEVENT
BEGIN:VEVENT
DTSTART;TZID=Europe/London:20250413T080000
DTEND;TZID=Europe/London:20250413T170000
DTSTAMP:20260423T125807
CREATED:20250122T115702Z
LAST-MODIFIED:20250122T122525Z
UID:11858-1744531200-1744563600@hhps.org.uk
SUMMARY:Submit entries
DESCRIPTION:Please Login to view this content. (Not a member? Join Today!)
URL:https://hhps.org.uk/event/11858/
END:VEVENT
BEGIN:VEVENT
DTSTART;TZID=Europe/London:20250407T173000
DTEND;TZID=Europe/London:20250407T220000
DTSTAMP:20260423T125807
CREATED:20250122T115012Z
LAST-MODIFIED:20250329T182713Z
UID:11848-1744047000-1744063200@hhps.org.uk
SUMMARY:Social: Canal Walk
DESCRIPTION:Please Login to view this content. (Not a member? Join Today!)
URL:https://hhps.org.uk/event/social-canal-walk/
END:VEVENT
BEGIN:VEVENT
DTSTART;TZID=Europe/London:20250331T194500
DTEND;TZID=Europe/London:20250331T220000
DTSTAMP:20260423T125807
CREATED:20250122T114844Z
LAST-MODIFIED:20250122T114845Z
UID:11846-1743450300-1743458400@hhps.org.uk
SUMMARY:4th PDI Competition
DESCRIPTION:Please Login to view this content. (Not a member? Join Today!)
URL:https://hhps.org.uk/event/4th-pdi-competition-2/
END:VEVENT
BEGIN:VEVENT
DTSTART;TZID=Europe/London:20250324T193000
DTEND;TZID=Europe/London:20250324T220000
DTSTAMP:20260423T125807
CREATED:20250122T114549Z
LAST-MODIFIED:20250122T114550Z
UID:11844-1742844600-1742853600@hhps.org.uk
SUMMARY:Talk by Tony North by Zoom
DESCRIPTION:Please Login to view this content. (Not a member? Join Today!)
URL:https://hhps.org.uk/event/talk-by-tony-north-by-zoom/
END:VEVENT
BEGIN:VEVENT
DTSTART;TZID=Europe/London:20250323T080000
DTEND;TZID=Europe/London:20250323T170000
DTSTAMP:20260423T125807
CREATED:20250122T114421Z
LAST-MODIFIED:20250305T175956Z
UID:11842-1742716800-1742749200@hhps.org.uk
SUMMARY:CACC Championship Day at Amersham. - Sunday
DESCRIPTION:Please Login to view this content. (Not a member? Join Today!)
URL:https://hhps.org.uk/event/cacc-championship-day-at-amersham-sunday/
END:VEVENT
BEGIN:VEVENT
DTSTART;TZID=Europe/London:20250317T194500
DTEND;TZID=Europe/London:20250317T220000
DTSTAMP:20260423T125807
CREATED:20250122T113702Z
LAST-MODIFIED:20250122T113703Z
UID:11840-1742240700-1742248800@hhps.org.uk
SUMMARY:Set Subject Competition: "Flora and/or Fungi".
DESCRIPTION:Please Login to view this content. (Not a member? Join Today!)
URL:https://hhps.org.uk/event/set-subject-competition-flora-and-or-fungi/
END:VEVENT
BEGIN:VEVENT
DTSTART;TZID=Europe/London:20250310T194500
DTEND;TZID=Europe/London:20250310T220000
DTSTAMP:20260423T125807
CREATED:20250122T113544Z
LAST-MODIFIED:20250122T122015Z
UID:11838-1741635900-1741644000@hhps.org.uk
SUMMARY:Members’ Evening: All Shoot
DESCRIPTION:Please Login to view this content. (Not a member? Join Today!)
URL:https://hhps.org.uk/event/members-evening-all-shoot-4/
END:VEVENT
BEGIN:VEVENT
DTSTART;TZID=Europe/London:20250308T080000
DTEND;TZID=Europe/London:20250308T170000
DTSTAMP:20260423T125807
CREATED:20250122T122147Z
LAST-MODIFIED:20250305T180359Z
UID:11885-1741420800-1741453200@hhps.org.uk
SUMMARY:Submit entries
DESCRIPTION:Please Login to view this content. (Not a member? Join Today!)
URL:https://hhps.org.uk/event/11885/
END:VEVENT
BEGIN:VEVENT
DTSTART;TZID=Europe/London:20250303T194500
DTEND;TZID=Europe/London:20250303T220000
DTSTAMP:20260423T125807
CREATED:20250122T113401Z
LAST-MODIFIED:20250122T113402Z
UID:11836-1741031100-1741039200@hhps.org.uk
SUMMARY:3rd Mono Print Competition
DESCRIPTION:Please Login to view this content. (Not a member? Join Today!)
URL:https://hhps.org.uk/event/3rd-mono-print-competition-2/
END:VEVENT
BEGIN:VEVENT
DTSTART;TZID=Europe/London:20250227T193000
DTEND;TZID=Europe/London:20250227T220000
DTSTAMP:20260423T125807
CREATED:20250122T113037Z
LAST-MODIFIED:20250122T113038Z
UID:11834-1740684600-1740693600@hhps.org.uk
SUMMARY:External Competition: "Intimate Landscape" by Zoom
DESCRIPTION:Please Login to view this content. (Not a member? Join Today!)
URL:https://hhps.org.uk/event/external-competition-intimate-landscape-by-zoom/
END:VEVENT
BEGIN:VEVENT
DTSTART;TZID=Europe/London:20250224T194500
DTEND;TZID=Europe/London:20250224T220000
DTSTAMP:20260423T125807
CREATED:20250122T112925Z
LAST-MODIFIED:20250122T112926Z
UID:11832-1740426300-1740434400@hhps.org.uk
SUMMARY:Set Subject Competition: "Weather".
DESCRIPTION:Please Login to view this content. (Not a member? Join Today!)
URL:https://hhps.org.uk/event/set-subject-competition-weather/
END:VEVENT
BEGIN:VEVENT
DTSTART;TZID=Europe/London:20250220T194500
DTEND;TZID=Europe/London:20250220T220000
DTSTAMP:20260423T125807
CREATED:20250122T112732Z
LAST-MODIFIED:20250122T112733Z
UID:11830-1740080700-1740088800@hhps.org.uk
SUMMARY:Studio Shoot of 1-1 Portraits with model. - Thur
DESCRIPTION:Please Login to view this content. (Not a member? Join Today!)
URL:https://hhps.org.uk/event/studio-shoot-of-1-1-portraits-with-model-thur/
END:VEVENT
END:VCALENDAR