BEGIN:VCALENDAR
VERSION:2.0
PRODID:-//HEMEL HEMPSTEAD PHOTOGRAPHIC SOCIETY - ECPv6.15.20//NONSGML v1.0//EN
CALSCALE:GREGORIAN
METHOD:PUBLISH
X-WR-CALNAME:HEMEL HEMPSTEAD PHOTOGRAPHIC SOCIETY
X-ORIGINAL-URL:https://hhps.org.uk
X-WR-CALDESC:Events for HEMEL HEMPSTEAD PHOTOGRAPHIC SOCIETY
REFRESH-INTERVAL;VALUE=DURATION:PT1H
X-Robots-Tag:noindex
X-PUBLISHED-TTL:PT1H
BEGIN:VTIMEZONE
TZID:Europe/London
BEGIN:DAYLIGHT
TZOFFSETFROM:+0000
TZOFFSETTO:+0100
TZNAME:BST
DTSTART:20230326T010000
END:DAYLIGHT
BEGIN:STANDARD
TZOFFSETFROM:+0100
TZOFFSETTO:+0000
TZNAME:GMT
DTSTART:20231029T010000
END:STANDARD
BEGIN:DAYLIGHT
TZOFFSETFROM:+0000
TZOFFSETTO:+0100
TZNAME:BST
DTSTART:20240331T010000
END:DAYLIGHT
BEGIN:STANDARD
TZOFFSETFROM:+0100
TZOFFSETTO:+0000
TZNAME:GMT
DTSTART:20241027T010000
END:STANDARD
BEGIN:DAYLIGHT
TZOFFSETFROM:+0000
TZOFFSETTO:+0100
TZNAME:BST
DTSTART:20250330T010000
END:DAYLIGHT
BEGIN:STANDARD
TZOFFSETFROM:+0100
TZOFFSETTO:+0000
TZNAME:GMT
DTSTART:20251026T010000
END:STANDARD
BEGIN:DAYLIGHT
TZOFFSETFROM:+0000
TZOFFSETTO:+0100
TZNAME:BST
DTSTART:20260329T010000
END:DAYLIGHT
BEGIN:STANDARD
TZOFFSETFROM:+0100
TZOFFSETTO:+0000
TZNAME:GMT
DTSTART:20261025T010000
END:STANDARD
END:VTIMEZONE
BEGIN:VEVENT
DTSTART;TZID=Europe/London:20250310T194500
DTEND;TZID=Europe/London:20250310T220000
DTSTAMP:20260423T062328
CREATED:20250122T113544Z
LAST-MODIFIED:20250122T122015Z
UID:11838-1741635900-1741644000@hhps.org.uk
SUMMARY:Members’ Evening: All Shoot
DESCRIPTION:All present encouraged to take portraits of the model – Bring your camera \n\n\n\nSubmit up to 3 images for Set Subject images on “Flora and/or Fungi”
URL:https://hhps.org.uk/event/members-evening-all-shoot-4/
END:VEVENT
BEGIN:VEVENT
DTSTART;TZID=Europe/London:20250308T080000
DTEND;TZID=Europe/London:20250308T170000
DTSTAMP:20260423T062328
CREATED:20250122T122147Z
LAST-MODIFIED:20250305T180359Z
UID:11885-1741420800-1741453200@hhps.org.uk
SUMMARY:Submit entries
DESCRIPTION:Submit entries for PDIs for Chilterns Hundred Members Exhibition \n\n\n\nOne PDI per person – Please send direct to Mike at mhmitchell07@hotmail.com BY 8th MARCH \n\n\n\nThe times (and other details) are on Chilterns Association of Camera Clubs – Member of the Photographic Alliance of Great Britain 
URL:https://hhps.org.uk/event/11885/
END:VEVENT
BEGIN:VEVENT
DTSTART;TZID=Europe/London:20250303T194500
DTEND;TZID=Europe/London:20250303T220000
DTSTAMP:20260423T062328
CREATED:20250122T113401Z
LAST-MODIFIED:20250122T113402Z
UID:11836-1741031100-1741039200@hhps.org.uk
SUMMARY:3rd Mono Print Competition
DESCRIPTION:Judge: Rojer Weightman
URL:https://hhps.org.uk/event/3rd-mono-print-competition-2/
END:VEVENT
BEGIN:VEVENT
DTSTART;TZID=Europe/London:20250227T193000
DTEND;TZID=Europe/London:20250227T220000
DTSTAMP:20260423T062328
CREATED:20250122T113037Z
LAST-MODIFIED:20250122T113038Z
UID:11834-1740684600-1740693600@hhps.org.uk
SUMMARY:External Competition: "Intimate Landscape" by Zoom
DESCRIPTION:Organised by Tring CC.  5 DPIs by 5 different authors.
URL:https://hhps.org.uk/event/external-competition-intimate-landscape-by-zoom/
END:VEVENT
BEGIN:VEVENT
DTSTART;TZID=Europe/London:20250224T194500
DTEND;TZID=Europe/London:20250224T220000
DTSTAMP:20260423T062328
CREATED:20250122T112925Z
LAST-MODIFIED:20250122T112926Z
UID:11832-1740426300-1740434400@hhps.org.uk
SUMMARY:Set Subject Competition: "Weather".
DESCRIPTION:Comments by members. \n\n\n\nRegister up to 3 images for 3rd Mono Print Competition.
URL:https://hhps.org.uk/event/set-subject-competition-weather/
END:VEVENT
BEGIN:VEVENT
DTSTART;TZID=Europe/London:20250220T194500
DTEND;TZID=Europe/London:20250220T220000
DTSTAMP:20260423T062328
CREATED:20250122T112732Z
LAST-MODIFIED:20250122T112733Z
UID:11830-1740080700-1740088800@hhps.org.uk
SUMMARY:Studio Shoot of 1-1 Portraits with model. - Thur
DESCRIPTION:Model TBC. A max of 6 members can shoot. Run by John Marshall & Rob Harley.
URL:https://hhps.org.uk/event/studio-shoot-of-1-1-portraits-with-model-thur/
END:VEVENT
BEGIN:VEVENT
DTSTART;TZID=Europe/London:20250219T193000
DTEND;TZID=Europe/London:20250219T220000
DTSTAMP:20260423T062328
CREATED:20250122T112612Z
LAST-MODIFIED:20250122T112614Z
UID:11828-1739993400-1740002400@hhps.org.uk
SUMMARY:External Competition: Rosebowl\, Rnd 3. - Wed
DESCRIPTION:Hosted away at Leighton Buzzard.
URL:https://hhps.org.uk/event/external-competition-rosebowl-rnd-3-wed/
END:VEVENT
BEGIN:VEVENT
DTSTART;TZID=Europe/London:20250217T194500
DTEND;TZID=Europe/London:20250217T220000
DTSTAMP:20260423T062328
CREATED:20250122T112420Z
LAST-MODIFIED:20250122T112453Z
UID:11825-1739821500-1739829600@hhps.org.uk
SUMMARY:3rd Colour Print Competition
DESCRIPTION:Judge: Kevin Day \n\n\n\nSubmit up to 3 images for Set Subject on “Weather”
URL:https://hhps.org.uk/event/3rd-colour-print-competition-2/
END:VEVENT
BEGIN:VEVENT
DTSTART;TZID=Europe/London:20250210T194500
DTEND;TZID=Europe/London:20250210T220000
DTSTAMP:20260423T062328
CREATED:20250122T111903Z
LAST-MODIFIED:20250122T111905Z
UID:11822-1739216700-1739224800@hhps.org.uk
SUMMARY:Talk by John Humphrey
DESCRIPTION:Creative techniques inc. choosing which images to use \n\n\n\n\n\nRegister up to 3 images for 3rd Colour Print Competition 
URL:https://hhps.org.uk/event/talk-by-john-humphrey/
END:VEVENT
BEGIN:VEVENT
DTSTART;TZID=Europe/London:20250203T194500
DTEND;TZID=Europe/London:20250203T220000
DTSTAMP:20260423T062328
CREATED:20250122T111614Z
LAST-MODIFIED:20250122T111726Z
UID:11819-1738611900-1738620000@hhps.org.uk
SUMMARY:3rd PDI Competition
DESCRIPTION:Judge: Dave Hipperson
URL:https://hhps.org.uk/event/league-competition-3rd-dpi/
END:VEVENT
BEGIN:VEVENT
DTSTART;TZID=Europe/London:20250129T193000
DTEND;TZID=Europe/London:20250129T220000
DTSTAMP:20260423T062328
CREATED:20250122T111446Z
LAST-MODIFIED:20250122T111448Z
UID:11817-1738179000-1738188000@hhps.org.uk
SUMMARY:NW Fed semi final vs Pinner.NW Fed semi final vs Pinner. - Wed
DESCRIPTION:Friends Meeting House 150 Church Road Watford WD17 4QB
URL:https://hhps.org.uk/event/nw-fed-semi-final-vs-pinner-nw-fed-semi-final-vs-pinner-wed/
END:VEVENT
BEGIN:VEVENT
DTSTART;TZID=Europe/London:20250127T194500
DTEND;TZID=Europe/London:20250127T220000
DTSTAMP:20260423T062328
CREATED:20241118T160853Z
LAST-MODIFIED:20250122T111308Z
UID:11721-1738007100-1738015200@hhps.org.uk
SUMMARY:External Competition: Rosebowl\, Round 2.
DESCRIPTION:Hosted by HHPS by Zoom; vs Wantage\, Amersham and Buckingham.  15 DPIs. \n\n\n\n\n\nSubmit up to 3 images for 3rd DPI Competition 
URL:https://hhps.org.uk/event/external-competition-rosebowl-round-2/
END:VEVENT
BEGIN:VEVENT
DTSTART;TZID=Europe/London:20250123T190000
DTEND;TZID=Europe/London:20250123T220000
DTSTAMP:20260423T062328
CREATED:20250121T205547Z
LAST-MODIFIED:20250121T205549Z
UID:11810-1737658800-1737669600@hhps.org.uk
SUMMARY:Social: Pub night at Marchmont Arms
DESCRIPTION:
URL:https://hhps.org.uk/event/social-pub-night-at-marchmont-arms/
END:VEVENT
BEGIN:VEVENT
DTSTART;TZID=Europe/London:20250122T190000
DTEND;TZID=Europe/London:20250122T220000
DTSTAMP:20260423T062328
CREATED:20250121T205450Z
LAST-MODIFIED:20250121T205804Z
UID:11808-1737572400-1737583200@hhps.org.uk
SUMMARY:Social: "Switching to Manual"
DESCRIPTION:Hosted by David Howard\, discuss using manual settings on your camera\, at the Marchmont Arm at 7.00pm
URL:https://hhps.org.uk/event/social-switching-to-manual/
END:VEVENT
BEGIN:VEVENT
DTSTART;TZID=Europe/London:20250120T194500
DTEND;TZID=Europe/London:20250120T220000
DTSTAMP:20260423T062328
CREATED:20241118T160539Z
LAST-MODIFIED:20241118T160553Z
UID:11719-1737402300-1737410400@hhps.org.uk
SUMMARY:2nd Mono Print Competition
DESCRIPTION:Judge: Peter Prosser
URL:https://hhps.org.uk/event/2nd-mono-print-competition-2/
END:VEVENT
BEGIN:VEVENT
DTSTART;TZID=Europe/London:20250113T194500
DTEND;TZID=Europe/London:20250113T220000
DTSTAMP:20260423T062328
CREATED:20241118T160312Z
LAST-MODIFIED:20241118T160316Z
UID:11717-1736797500-1736805600@hhps.org.uk
SUMMARY:Talk by Stephen Ball LRPS by Zoom
DESCRIPTION:“Scotland Captured”: 180 inspirational images with how they were composed\, captured and post-processed. \n\n\n\nRegister up to 3 images for 2nd Mono Print Competition 
URL:https://hhps.org.uk/event/talk-by-stephen-ball-lrps-by-zoom/
END:VEVENT
BEGIN:VEVENT
DTSTART;TZID=Europe/London:20250106T194500
DTEND;TZID=Europe/London:20250106T220000
DTSTAMP:20260423T062328
CREATED:20241118T160105Z
LAST-MODIFIED:20241118T160114Z
UID:11715-1736192700-1736200800@hhps.org.uk
SUMMARY:2nd Colour Print Competition
DESCRIPTION:Judge: Chris Drury
URL:https://hhps.org.uk/event/2nd-colour-print-competition-2/
END:VEVENT
BEGIN:VEVENT
DTSTART;TZID=Europe/London:20241230T193000
DTEND;TZID=Europe/London:20241230T220000
DTSTAMP:20260423T062328
CREATED:20241008T091018Z
LAST-MODIFIED:20241008T091020Z
UID:11624-1735587000-1735596000@hhps.org.uk
SUMMARY:No Meeting - Christmas Break
DESCRIPTION:Register up to 3 images for 2nd Colour Print Competition 
URL:https://hhps.org.uk/event/no-meeting-christmas-break-2/
END:VEVENT
BEGIN:VEVENT
DTSTART;TZID=Europe/London:20241223T193000
DTEND;TZID=Europe/London:20241223T220000
DTSTAMP:20260423T062328
CREATED:20241008T090906Z
LAST-MODIFIED:20241008T090911Z
UID:11622-1734982200-1734991200@hhps.org.uk
SUMMARY:No Meeting - Christmas Break
DESCRIPTION:
URL:https://hhps.org.uk/event/no-meeting-christmas-break/
END:VEVENT
BEGIN:VEVENT
DTSTART;TZID=Europe/London:20241216T194500
DTEND;TZID=Europe/London:20241216T220000
DTSTAMP:20260423T062328
CREATED:20241008T090814Z
LAST-MODIFIED:20241008T090818Z
UID:11620-1734378300-1734386400@hhps.org.uk
SUMMARY:Social: Quiz & Christmas Party
DESCRIPTION:
URL:https://hhps.org.uk/event/social-quiz-christmas-party/
END:VEVENT
BEGIN:VEVENT
DTSTART;TZID=Europe/London:20241209T194500
DTEND;TZID=Europe/London:20241209T220000
DTSTAMP:20260423T062328
CREATED:20241008T090713Z
LAST-MODIFIED:20241008T090719Z
UID:11618-1733773500-1733781600@hhps.org.uk
SUMMARY:2nd PDI Competition
DESCRIPTION:Judge:  Damon Guy
URL:https://hhps.org.uk/event/2nd-pdi-competition-2/
END:VEVENT
BEGIN:VEVENT
DTSTART;TZID=Europe/London:20241202T194500
DTEND;TZID=Europe/London:20241202T220000
DTSTAMP:20260423T062328
CREATED:20241008T090346Z
LAST-MODIFIED:20241008T090350Z
UID:11615-1733168700-1733176800@hhps.org.uk
SUMMARY:Talk by Andy Skillen - at Pinner
DESCRIPTION:Wildlife\, sharing the euphoric highs (and the considerable lows) of working at the frontline of the natural world. \n\n\n\nCost is £10 for this acclaimed speaker.Joint event at Pinner (at Fairfield Church\, Windsor Cl\, Northwood HA6 1PD).Ask about car share. \n\n\n\nSubmit up to 3 images for 2nd DPI Competition
URL:https://hhps.org.uk/event/talk-by-andy-skillen-at-pinner/
END:VEVENT
BEGIN:VEVENT
DTSTART;TZID=Europe/London:20241128T194500
DTEND;TZID=Europe/London:20241128T220000
DTSTAMP:20260423T062328
CREATED:20241008T090119Z
LAST-MODIFIED:20241008T090123Z
UID:11613-1732823100-1732831200@hhps.org.uk
SUMMARY:External Competition: NW Fed\, Group D2 - Thursday
DESCRIPTION:Hosted away at Croxley.  5 Prints 5 DPIs
URL:https://hhps.org.uk/event/external-competition-nw-fed-group-d2-thursday/
END:VEVENT
BEGIN:VEVENT
DTSTART;TZID=Europe/London:20241125T194500
DTEND;TZID=Europe/London:20241125T220000
DTSTAMP:20260423T062328
CREATED:20241008T085932Z
LAST-MODIFIED:20241008T085933Z
UID:11611-1732563900-1732572000@hhps.org.uk
SUMMARY:Members’ Evening: Portraiture
DESCRIPTION:How to plan and execute a portrait session\, including a critique of some images from the recent All Shoot evening. \n\n\n\nHHPS meetings will be downstairs at the Salvation Army for rest of 2024
URL:https://hhps.org.uk/event/members-evening-portraiture-2/
END:VEVENT
BEGIN:VEVENT
DTSTART;TZID=Europe/London:20241118T194500
DTEND;TZID=Europe/London:20241118T220000
DTSTAMP:20260423T062328
CREATED:20241008T085753Z
LAST-MODIFIED:20241008T085755Z
UID:11609-1731959100-1731967200@hhps.org.uk
SUMMARY:1st Mono Print Competition
DESCRIPTION:Judge:  Micki Aston
URL:https://hhps.org.uk/event/1st-mono-print-competition-2/
END:VEVENT
BEGIN:VEVENT
DTSTART;TZID=Europe/London:20241114T194500
DTEND;TZID=Europe/London:20241114T220000
DTSTAMP:20260423T062328
CREATED:20241008T085624Z
LAST-MODIFIED:20241008T085626Z
UID:11607-1731613500-1731621600@hhps.org.uk
SUMMARY:Social: Coffee/Pub night
DESCRIPTION:Venue to be confirmed
URL:https://hhps.org.uk/event/social-coffee-pub-night/
END:VEVENT
BEGIN:VEVENT
DTSTART;TZID=Europe/London:20241111T194500
DTEND;TZID=Europe/London:20241111T220000
DTSTAMP:20260423T062328
CREATED:20241008T085446Z
LAST-MODIFIED:20241008T085448Z
UID:11605-1731354300-1731362400@hhps.org.uk
SUMMARY:Members’ Evening: All Shoot
DESCRIPTION:All present encouraged to take portraits of the model.  Model TBC \n\n\n\nRegister up to 3 images for 1st Mono Print Competition
URL:https://hhps.org.uk/event/members-evening-all-shoot-3/
END:VEVENT
BEGIN:VEVENT
DTSTART;TZID=Europe/London:20241106T194500
DTEND;TZID=Europe/London:20241106T220000
DTSTAMP:20260423T062328
CREATED:20241008T085144Z
LAST-MODIFIED:20241008T085146Z
UID:11603-1730922300-1730930400@hhps.org.uk
SUMMARY:External Competition: Rosebowl\, Round 1 - Wednesday
DESCRIPTION:Hosted away at Field End.  15 DPIs
URL:https://hhps.org.uk/event/external-competition-rosebowl-round-1-wednesday/
END:VEVENT
BEGIN:VEVENT
DTSTART;TZID=Europe/London:20241104T194500
DTEND;TZID=Europe/London:20241104T220000
DTSTAMP:20260423T062328
CREATED:20241008T085011Z
LAST-MODIFIED:20241008T085014Z
UID:11601-1730749500-1730757600@hhps.org.uk
SUMMARY:Talk by Lloyd Moore by Zoom
DESCRIPTION:The Art of Story Telling\, creating images that have narrative & hence atmosphere/ meaning
URL:https://hhps.org.uk/event/talk-by-lloyd-moore-by-zoom/
END:VEVENT
BEGIN:VEVENT
DTSTART;TZID=Europe/London:20241028T194500
DTEND;TZID=Europe/London:20241028T220000
DTSTAMP:20260423T062328
CREATED:20241007T190013Z
LAST-MODIFIED:20241007T190020Z
UID:11595-1730144700-1730152800@hhps.org.uk
SUMMARY:1st Colour Print Competition
DESCRIPTION:Judge:  Amanda Wright
URL:https://hhps.org.uk/event/1st-colour-print-competition-2/
END:VEVENT
END:VCALENDAR