BEGIN:VCALENDAR
VERSION:2.0
PRODID:-//HEMEL HEMPSTEAD PHOTOGRAPHIC SOCIETY - ECPv6.15.20//NONSGML v1.0//EN
CALSCALE:GREGORIAN
METHOD:PUBLISH
X-WR-CALNAME:HEMEL HEMPSTEAD PHOTOGRAPHIC SOCIETY
X-ORIGINAL-URL:https://hhps.org.uk
X-WR-CALDESC:Events for HEMEL HEMPSTEAD PHOTOGRAPHIC SOCIETY
REFRESH-INTERVAL;VALUE=DURATION:PT1H
X-Robots-Tag:noindex
X-PUBLISHED-TTL:PT1H
BEGIN:VTIMEZONE
TZID:Europe/London
BEGIN:DAYLIGHT
TZOFFSETFROM:+0000
TZOFFSETTO:+0100
TZNAME:BST
DTSTART:20240331T010000
END:DAYLIGHT
BEGIN:STANDARD
TZOFFSETFROM:+0100
TZOFFSETTO:+0000
TZNAME:GMT
DTSTART:20241027T010000
END:STANDARD
BEGIN:DAYLIGHT
TZOFFSETFROM:+0000
TZOFFSETTO:+0100
TZNAME:BST
DTSTART:20250330T010000
END:DAYLIGHT
BEGIN:STANDARD
TZOFFSETFROM:+0100
TZOFFSETTO:+0000
TZNAME:GMT
DTSTART:20251026T010000
END:STANDARD
BEGIN:DAYLIGHT
TZOFFSETFROM:+0000
TZOFFSETTO:+0100
TZNAME:BST
DTSTART:20260329T010000
END:DAYLIGHT
BEGIN:STANDARD
TZOFFSETFROM:+0100
TZOFFSETTO:+0000
TZNAME:GMT
DTSTART:20261025T010000
END:STANDARD
BEGIN:DAYLIGHT
TZOFFSETFROM:+0000
TZOFFSETTO:+0100
TZNAME:BST
DTSTART:20270328T010000
END:DAYLIGHT
BEGIN:STANDARD
TZOFFSETFROM:+0100
TZOFFSETTO:+0000
TZNAME:GMT
DTSTART:20271031T010000
END:STANDARD
END:VTIMEZONE
BEGIN:VEVENT
DTSTART;TZID=Europe/London:20260413T194500
DTEND;TZID=Europe/London:20260413T220000
DTSTAMP:20260422T234407
CREATED:20260103T142114Z
LAST-MODIFIED:20260103T142118Z
UID:12662-1776109500-1776117600@hhps.org.uk
SUMMARY:4th Colour Print Competition
DESCRIPTION:Judge: Peter Cox
URL:https://hhps.org.uk/event/4th-colour-print-competition-3/
END:VEVENT
BEGIN:VEVENT
DTSTART;TZID=Europe/London:20260406T193000
DTEND;TZID=Europe/London:20260406T220000
DTSTAMP:20260422T234407
CREATED:20260103T141944Z
LAST-MODIFIED:20260103T141948Z
UID:12660-1775503800-1775512800@hhps.org.uk
SUMMARY:No Meeting: Bank Holiday
DESCRIPTION:Register up to 3 Prints for 4th Colour Print
URL:https://hhps.org.uk/event/no-meeting-bank-holiday-8/
END:VEVENT
BEGIN:VEVENT
DTSTART;TZID=Europe/London:20260330T194500
DTEND;TZID=Europe/London:20260330T220000
DTSTAMP:20260422T234407
CREATED:20260103T141825Z
LAST-MODIFIED:20260103T141829Z
UID:12658-1774899900-1774908000@hhps.org.uk
SUMMARY:4th DPI Competition
DESCRIPTION:Judge: Martin Patten
URL:https://hhps.org.uk/event/4th-dpi-competition/
END:VEVENT
BEGIN:VEVENT
DTSTART;TZID=Europe/London:20260323T194500
DTEND;TZID=Europe/London:20260323T220000
DTSTAMP:20260422T234407
CREATED:20260103T141549Z
LAST-MODIFIED:20260303T133822Z
UID:12656-1774295100-1774303200@hhps.org.uk
SUMMARY:Talk by Tony North - Zoom
DESCRIPTION:on “Scapes 2: Urban and Creative” \n\n\n\n\n\nSubmit up to 3 DPIs for 4th DPI
URL:https://hhps.org.uk/event/talk-by-jonathan-genevaux-zoom/
END:VEVENT
BEGIN:VEVENT
DTSTART;TZID=Europe/London:20260316T194500
DTEND;TZID=Europe/London:20260316T220000
DTSTAMP:20260422T234407
CREATED:20260103T141422Z
LAST-MODIFIED:20260103T141425Z
UID:12654-1773690300-1773698400@hhps.org.uk
SUMMARY:Set Subject: Street Photography
DESCRIPTION:Comments by panel then other members.
URL:https://hhps.org.uk/event/set-subject-street-photography/
END:VEVENT
BEGIN:VEVENT
DTSTART;TZID=Europe/London:20260309T193000
DTEND;TZID=Europe/London:20260309T220000
DTSTAMP:20260422T234407
CREATED:20260103T141300Z
LAST-MODIFIED:20260103T141305Z
UID:12652-1773084600-1773093600@hhps.org.uk
SUMMARY:Members’ Evening: All Shoot
DESCRIPTION:Everyone present is encouraged to takeportraits of the model. Model TBD. \n\n\n\n\n\nSubmit up to 3 DPIs for Street Photography (candid only)
URL:https://hhps.org.uk/event/members-evening-all-shoot-6/
END:VEVENT
BEGIN:VEVENT
DTSTART;TZID=Europe/London:20260302T194500
DTEND;TZID=Europe/London:20260302T220000
DTSTAMP:20260422T234407
CREATED:20260103T140356Z
LAST-MODIFIED:20260103T140406Z
UID:12650-1772480700-1772488800@hhps.org.uk
SUMMARY:3rd Mono Print Competition
DESCRIPTION:Judge: Michael Lurie
URL:https://hhps.org.uk/event/3rd-mono-print-competition-3/
END:VEVENT
BEGIN:VEVENT
DTSTART;TZID=Europe/London:20260226T194500
DTEND;TZID=Europe/London:20260226T220000
DTSTAMP:20260422T234407
CREATED:20260103T140206Z
LAST-MODIFIED:20260103T154659Z
UID:12648-1772135100-1772143200@hhps.org.uk
SUMMARY:External Competition: Intimate Scapes run by Tring. - Zoom. Thursday
DESCRIPTION:Hosted by Peter Cox of Tring
URL:https://hhps.org.uk/event/external-competition-intimate-scapes-runby-tring-zoom-thursday/
END:VEVENT
BEGIN:VEVENT
DTSTART;TZID=Europe/London:20260223T194500
DTEND;TZID=Europe/London:20260223T220000
DTSTAMP:20260422T234407
CREATED:20260103T135659Z
LAST-MODIFIED:20260103T135832Z
UID:12642-1771875900-1771884000@hhps.org.uk
SUMMARY:External Comp’n: Rosebowl\, Rnd 3. - Zoom
DESCRIPTION:Hosted by Hemel. 15 DPIs. 15 images perround. \n\n\n\n\n\n \n\n\n\nRegister up to 3 Prints for 3rd Mono Print
URL:https://hhps.org.uk/event/external-compn-rosebowl-rnd-3-zoom/
END:VEVENT
BEGIN:VEVENT
DTSTART;TZID=Europe/London:20260219T193000
DTEND;TZID=Europe/London:20260219T220000
DTSTAMP:20260422T234407
CREATED:20260103T135521Z
LAST-MODIFIED:20260103T135926Z
UID:12640-1771529400-1771538400@hhps.org.uk
SUMMARY:Studio Shoot of portraits 1-to-1 with model - Thursday
DESCRIPTION:Model TBD. A max of 6 members can shoot.Run by John Marshall and Rob Harley.
URL:https://hhps.org.uk/event/studio-shoot-of-portraits-1-to-1-with-model/
END:VEVENT
BEGIN:VEVENT
DTSTART;TZID=Europe/London:20260216T194500
DTEND;TZID=Europe/London:20260216T220000
DTSTAMP:20260422T234407
CREATED:20260202T173350Z
LAST-MODIFIED:20260202T173357Z
UID:12760-1771271100-1771279200@hhps.org.uk
SUMMARY:3rd Colour Print Competition
DESCRIPTION:Judge: Kevin Day
URL:https://hhps.org.uk/event/3rd-colour-print-competition-3/
END:VEVENT
BEGIN:VEVENT
DTSTART;TZID=Europe/London:20260215T103000
DTEND;TZID=Europe/London:20260215T173000
DTSTAMP:20260422T234407
CREATED:20260202T172526Z
LAST-MODIFIED:20260202T172531Z
UID:12758-1771151400-1771176600@hhps.org.uk
SUMMARY:CACC Championship Day - Sunday
DESCRIPTION:
URL:https://hhps.org.uk/event/cacc-championship-day-sunday/
END:VEVENT
BEGIN:VEVENT
DTSTART;TZID=Europe/London:20260209T194500
DTEND;TZID=Europe/London:20260209T220000
DTSTAMP:20260422T234407
CREATED:20260103T135357Z
LAST-MODIFIED:20260103T135403Z
UID:12638-1770666300-1770674400@hhps.org.uk
SUMMARY:Talk by John Humphrey
DESCRIPTION:Creative photography \n\n\n\nRegister up to 3 Prints for 3rd Colour Print
URL:https://hhps.org.uk/event/talk-by-john-humphrey-2/
END:VEVENT
BEGIN:VEVENT
DTSTART;TZID=Europe/London:20260207T140000
DTEND;TZID=Europe/London:20260207T170000
DTSTAMP:20260422T234407
CREATED:20260122T152048Z
LAST-MODIFIED:20260122T152052Z
UID:12741-1770472800-1770483600@hhps.org.uk
SUMMARY:NW FED Final - Saturday
DESCRIPTION:At Watford CC\, The Friends Meeting House\, 150 Church Road\, WD17 4QB \n\n\n\nImages from the Finalists – Amersham\, Pinner\, WatfordWith Stars from the other member ClubsAwards for Best Club\, Best Print\, Best ProjectedJudge: David Wheeler FRPS DPAGB EFIAP/d1 MFIAP
URL:https://hhps.org.uk/event/nw-fed-final-saturday/
END:VEVENT
BEGIN:VEVENT
DTSTART;TZID=Europe/London:20260202T194500
DTEND;TZID=Europe/London:20260202T220000
DTSTAMP:20260422T234407
CREATED:20260103T135202Z
LAST-MODIFIED:20260202T172911Z
UID:12636-1770061500-1770069600@hhps.org.uk
SUMMARY:3rd DPI Competition
DESCRIPTION:Judge: Colin Mill
URL:https://hhps.org.uk/event/3rd-dpi-competition/
END:VEVENT
BEGIN:VEVENT
DTSTART;TZID=Europe/London:20260127T194500
DTEND;TZID=Europe/London:20260127T220000
DTSTAMP:20260422T234407
CREATED:20260103T135005Z
LAST-MODIFIED:20260103T140031Z
UID:12634-1769543100-1769551200@hhps.org.uk
SUMMARY:External Comp’n: Rosebowl\, Rnd 2. - Zoom Tuesday
DESCRIPTION:Hosted away. 15 DPIs. 15 images per round.
URL:https://hhps.org.uk/event/external-compn-rosebowl-rnd-2-zoom/
END:VEVENT
BEGIN:VEVENT
DTSTART;TZID=Europe/London:20260126T194500
DTEND;TZID=Europe/London:20260126T220000
DTSTAMP:20260422T234407
CREATED:20260103T134830Z
LAST-MODIFIED:20260103T134840Z
UID:12632-1769456700-1769464800@hhps.org.uk
SUMMARY:Set Subject: Intimate Scapes
DESCRIPTION:Comments by panel then other members.Informs entries for later Tring competition. \n\n\n\nSubmit up to 3 DPIs for 3rd DPI
URL:https://hhps.org.uk/event/set-subject-intimate-scapes/
END:VEVENT
BEGIN:VEVENT
DTSTART;TZID=Europe/London:20260119T194500
DTEND;TZID=Europe/London:20260119T220000
DTSTAMP:20260422T234407
CREATED:20260103T134454Z
LAST-MODIFIED:20260116T120249Z
UID:12630-1768851900-1768860000@hhps.org.uk
SUMMARY:2nd Mono Print Competition
DESCRIPTION:Judge: Chris Drury \n\n\n\n\n\nSubmit up to 3 DPIs for Intimate Scapes \n\n\n\nPlease submit to Tring format 16:9 ratio 10Mb (max)
URL:https://hhps.org.uk/event/2nd-mono-print-ompetition/
END:VEVENT
BEGIN:VEVENT
DTSTART;TZID=Europe/London:20260112T194500
DTEND;TZID=Europe/London:20260112T220000
DTSTAMP:20260422T234407
CREATED:20260103T134155Z
LAST-MODIFIED:20260112T191945Z
UID:12628-1768247100-1768255200@hhps.org.uk
SUMMARY:Talk by David Gibson - Zoom
DESCRIPTION:Street Photography: Capturing Moments \n\n\n\n\n\nRegister up to 3 Prints for 2nd Mono Print
URL:https://hhps.org.uk/event/talk-by-david-gibson-zoom/
END:VEVENT
BEGIN:VEVENT
DTSTART;TZID=Europe/London:20260105T194500
DTEND;TZID=Europe/London:20260105T220000
DTSTAMP:20260422T234407
CREATED:20260103T133908Z
LAST-MODIFIED:20260103T133938Z
UID:12626-1767642300-1767650400@hhps.org.uk
SUMMARY:2nd Colour Print Competition
DESCRIPTION:Judge: Ben Pike
URL:https://hhps.org.uk/event/2nd-colour-print-competition-3/
END:VEVENT
BEGIN:VEVENT
DTSTART;TZID=Europe/London:20251229T193000
DTEND;TZID=Europe/London:20251229T220000
DTSTAMP:20260422T234407
CREATED:20250712T173923Z
LAST-MODIFIED:20250712T173924Z
UID:12341-1767036600-1767045600@hhps.org.uk
SUMMARY:No Meeting: Christmas break
DESCRIPTION:Register up to 3 Prints for 2nd Colour Print
URL:https://hhps.org.uk/event/no-meeting-christmas-break-4/
END:VEVENT
BEGIN:VEVENT
DTSTART;TZID=Europe/London:20251222T193000
DTEND;TZID=Europe/London:20251222T220000
DTSTAMP:20260422T234407
CREATED:20250712T173805Z
LAST-MODIFIED:20250712T173810Z
UID:12339-1766431800-1766440800@hhps.org.uk
SUMMARY:No Meeting: Christmas break
DESCRIPTION:
URL:https://hhps.org.uk/event/no-meeting-christmas-break-3/
END:VEVENT
BEGIN:VEVENT
DTSTART;TZID=Europe/London:20251215T194500
DTEND;TZID=Europe/London:20251215T220000
DTSTAMP:20260422T234407
CREATED:20250712T173701Z
LAST-MODIFIED:20250712T173704Z
UID:12337-1765827900-1765836000@hhps.org.uk
SUMMARY:Social: Quiz & Christmas Party
DESCRIPTION:David H will run the quiz again this season. – Down stairs
URL:https://hhps.org.uk/event/social-quiz-christmas-party-2/
END:VEVENT
BEGIN:VEVENT
DTSTART;TZID=Europe/London:20251208T194500
DTEND;TZID=Europe/London:20251208T220000
DTSTAMP:20260422T234407
CREATED:20250712T173515Z
LAST-MODIFIED:20250712T173517Z
UID:12335-1765223100-1765231200@hhps.org.uk
SUMMARY:2nd DPI Competition
DESCRIPTION:Judge: Alan Taberer
URL:https://hhps.org.uk/event/2nd-dpi-competition/
END:VEVENT
BEGIN:VEVENT
DTSTART;TZID=Europe/London:20251202T194500
DTEND;TZID=Europe/London:20251202T220000
DTSTAMP:20260422T234407
CREATED:20250712T173323Z
LAST-MODIFIED:20250712T173326Z
UID:12333-1764704700-1764712800@hhps.org.uk
SUMMARY:External Comp’n: NW Fed\, Group C\, Rnd 3 - Tuesday
DESCRIPTION:Hosted away at Stoke Poges. 5 Prints 5 DPIs.Against Watford & Stoke Poges.
URL:https://hhps.org.uk/event/external-compn-nw-fed-group-c-rnd-3-tuesday/
END:VEVENT
BEGIN:VEVENT
DTSTART;TZID=Europe/London:20251201T194500
DTEND;TZID=Europe/London:20251201T220000
DTSTAMP:20260422T234407
CREATED:20250712T173117Z
LAST-MODIFIED:20250712T173119Z
UID:12331-1764618300-1764626400@hhps.org.uk
SUMMARY:Talk by Andy Sands
DESCRIPTION:Ancient Woodland & Trees \n\n\n\nSubmit up to 3 DPIs for 2nd DPI
URL:https://hhps.org.uk/event/talk-by-andy-sands/
END:VEVENT
BEGIN:VEVENT
DTSTART;TZID=Europe/London:20251124T194500
DTEND;TZID=Europe/London:20251124T220000
DTSTAMP:20260422T234407
CREATED:20250712T172927Z
LAST-MODIFIED:20250712T172929Z
UID:12329-1764013500-1764021600@hhps.org.uk
SUMMARY:Set Subject: Portraiture
DESCRIPTION:Critiques of portraits from the first “All shoot” evening or from other occasions.HHPS meetings at the Salvation Army will be downstairs for the rest of 2025.
URL:https://hhps.org.uk/event/set-subject-portraiture/
END:VEVENT
BEGIN:VEVENT
DTSTART;TZID=Europe/London:20251117T194500
DTEND;TZID=Europe/London:20251117T220000
DTSTAMP:20260422T234407
CREATED:20250712T172733Z
LAST-MODIFIED:20250712T172735Z
UID:12327-1763408700-1763416800@hhps.org.uk
SUMMARY:1st Mono Print Competition
DESCRIPTION:Judge: Micki Aston \n\n\n\nSubmit up to 3 DPIs for Portraiture
URL:https://hhps.org.uk/event/1st-mono-print-competition-3/
END:VEVENT
BEGIN:VEVENT
DTSTART;TZID=Europe/London:20251110T194500
DTEND;TZID=Europe/London:20251110T220000
DTSTAMP:20260422T234407
CREATED:20250712T172521Z
LAST-MODIFIED:20250712T172522Z
UID:12325-1762803900-1762812000@hhps.org.uk
SUMMARY:Members’ Evening: All Shoot
DESCRIPTION:Everyone present is encouraged to takeportraits of the model. Model TBD. \n\n\n\nRegister up to 3 Prints for 1st Mono Print
URL:https://hhps.org.uk/event/members-evening-all-shoot-5/
END:VEVENT
BEGIN:VEVENT
DTSTART;TZID=Europe/London:20251106T194500
DTEND;TZID=Europe/London:20251106T220000
DTSTAMP:20260422T234407
CREATED:20250712T172322Z
LAST-MODIFIED:20250712T172324Z
UID:12323-1762458300-1762466400@hhps.org.uk
SUMMARY:External Comp’n: NW Fed\, Group C\, Rnd 2 - Thursday
DESCRIPTION:Hosted away at Watford. 5 Prints 5 DPIs.Against Watford & Stoke Poges.
URL:https://hhps.org.uk/event/external-compn-nw-fed-group-c-rnd-2-thursday/
END:VEVENT
END:VCALENDAR