BEGIN:VCALENDAR
VERSION:2.0
PRODID:-//HEMEL HEMPSTEAD PHOTOGRAPHIC SOCIETY - ECPv6.15.20//NONSGML v1.0//EN
CALSCALE:GREGORIAN
METHOD:PUBLISH
X-WR-CALNAME:HEMEL HEMPSTEAD PHOTOGRAPHIC SOCIETY
X-ORIGINAL-URL:https://hhps.org.uk
X-WR-CALDESC:Events for HEMEL HEMPSTEAD PHOTOGRAPHIC SOCIETY
REFRESH-INTERVAL;VALUE=DURATION:PT1H
X-Robots-Tag:noindex
X-PUBLISHED-TTL:PT1H
BEGIN:VTIMEZONE
TZID:Europe/London
BEGIN:DAYLIGHT
TZOFFSETFROM:+0000
TZOFFSETTO:+0100
TZNAME:BST
DTSTART:20230326T010000
END:DAYLIGHT
BEGIN:STANDARD
TZOFFSETFROM:+0100
TZOFFSETTO:+0000
TZNAME:GMT
DTSTART:20231029T010000
END:STANDARD
BEGIN:DAYLIGHT
TZOFFSETFROM:+0000
TZOFFSETTO:+0100
TZNAME:BST
DTSTART:20240331T010000
END:DAYLIGHT
BEGIN:STANDARD
TZOFFSETFROM:+0100
TZOFFSETTO:+0000
TZNAME:GMT
DTSTART:20241027T010000
END:STANDARD
BEGIN:DAYLIGHT
TZOFFSETFROM:+0000
TZOFFSETTO:+0100
TZNAME:BST
DTSTART:20250330T010000
END:DAYLIGHT
BEGIN:STANDARD
TZOFFSETFROM:+0100
TZOFFSETTO:+0000
TZNAME:GMT
DTSTART:20251026T010000
END:STANDARD
END:VTIMEZONE
BEGIN:VEVENT
DTSTART;TZID=Europe/London:20241104T194500
DTEND;TZID=Europe/London:20241104T220000
DTSTAMP:20260423T170714
CREATED:20241008T085011Z
LAST-MODIFIED:20241008T085014Z
UID:11601-1730749500-1730757600@hhps.org.uk
SUMMARY:Talk by Lloyd Moore by Zoom
DESCRIPTION:The Art of Story Telling\, creating images that have narrative & hence atmosphere/ meaning
URL:https://hhps.org.uk/event/talk-by-lloyd-moore-by-zoom/
END:VEVENT
BEGIN:VEVENT
DTSTART;TZID=Europe/London:20241028T194500
DTEND;TZID=Europe/London:20241028T220000
DTSTAMP:20260423T170714
CREATED:20241007T190013Z
LAST-MODIFIED:20241007T190020Z
UID:11595-1730144700-1730152800@hhps.org.uk
SUMMARY:1st Colour Print Competition
DESCRIPTION:Judge:  Amanda Wright
URL:https://hhps.org.uk/event/1st-colour-print-competition-2/
END:VEVENT
BEGIN:VEVENT
DTSTART;TZID=Europe/London:20241023T194500
DTEND;TZID=Europe/London:20241023T220000
DTSTAMP:20260423T170714
CREATED:20241007T185829Z
LAST-MODIFIED:20241015T101457Z
UID:11593-1729712700-1729720800@hhps.org.uk
SUMMARY:Members’ Evening: Practical - CANCELLED Wednesday
DESCRIPTION:How to mount a print: learn how to use the mount cutter and to mount a print in a cost-effective way \n\n\n\nFor Print mounting etc please refer to Viewfinder or Members Handbook
URL:https://hhps.org.uk/event/members-evening-practical-wednesday/
END:VEVENT
BEGIN:VEVENT
DTSTART;TZID=Europe/London:20241021T194500
DTEND;TZID=Europe/London:20241021T220000
DTSTAMP:20260423T170714
CREATED:20241007T184401Z
LAST-MODIFIED:20241007T184404Z
UID:11591-1729539900-1729548000@hhps.org.uk
SUMMARY:External Competition: NW Fed\, Group D1
DESCRIPTION:Hosted by HHPS.  6 Prints  6 DPIs \n\n\n\nRegister up to 3 images for 1st Colour Print Competition
URL:https://hhps.org.uk/event/external-competition-nw-fed-group-d1/
END:VEVENT
BEGIN:VEVENT
DTSTART;TZID=Europe/London:20241014T194500
DTEND;TZID=Europe/London:20241014T220000
DTSTAMP:20260423T170714
CREATED:20241007T184154Z
LAST-MODIFIED:20241007T184220Z
UID:11589-1728935100-1728943200@hhps.org.uk
SUMMARY:1st PDI Competition
DESCRIPTION:Judge:  Alan Taberer
URL:https://hhps.org.uk/event/1st-pdi-competition-2/
END:VEVENT
BEGIN:VEVENT
DTSTART;TZID=Europe/London:20241007T194500
DTEND;TZID=Europe/London:20241007T220000
DTSTAMP:20260423T170714
CREATED:20240804T121647Z
LAST-MODIFIED:20240804T121651Z
UID:11512-1728330300-1728338400@hhps.org.uk
SUMMARY:Talk by Cat Humphries - Zoom
DESCRIPTION:Photo Analysis workshop – including what judges look for \n\n\n\nSubmit up to 3 images for 1st DPI Competition
URL:https://hhps.org.uk/event/talk-by-cat-humphries-zoom/
END:VEVENT
BEGIN:VEVENT
DTSTART;TZID=Europe/London:20240930T194500
DTEND;TZID=Europe/London:20240930T220000
DTSTAMP:20260423T170714
CREATED:20240804T121439Z
LAST-MODIFIED:20240804T121441Z
UID:11510-1727725500-1727733600@hhps.org.uk
SUMMARY:Set Subject Competition: "Song Titles"
DESCRIPTION:Comments by Members.
URL:https://hhps.org.uk/event/set-subject-competition-song-titles/
END:VEVENT
BEGIN:VEVENT
DTSTART;TZID=Europe/London:20240923T194500
DTEND;TZID=Europe/London:20240923T220000
DTSTAMP:20260423T170714
CREATED:20240716T161043Z
LAST-MODIFIED:20240804T121905Z
UID:11503-1727120700-1727128800@hhps.org.uk
SUMMARY:Members Evening
DESCRIPTION:Practical Evening – How to use Lightroom\, Photoshop\, Elements\, Affinity\, Snapseed etc\, inc to create + submit PDIs. \n\n\n\nIf time\, tips (e.g. composition) for compet’ns.  Include introduction to Members’ Handbook. \n\n\n\nSubmit up to 3 images for “Song Titles”.  
URL:https://hhps.org.uk/event/members-evening-5/
END:VEVENT
BEGIN:VEVENT
DTSTART;TZID=Europe/London:20240916T194500
DTEND;TZID=Europe/London:20240916T220000
DTSTAMP:20260423T170714
CREATED:20240716T160719Z
LAST-MODIFIED:20240716T160720Z
UID:11501-1726515900-1726524000@hhps.org.uk
SUMMARY:Members Evening
DESCRIPTION:Talk by Ully on travel photography in America on “Pacific North West and British Columbia 2023”
URL:https://hhps.org.uk/event/members-evening-4/
END:VEVENT
BEGIN:VEVENT
DTSTART;TZID=Europe/London:20240909T194500
DTEND;TZID=Europe/London:20240909T220000
DTSTAMP:20260423T170714
CREATED:20240716T160606Z
LAST-MODIFIED:20240803T185054Z
UID:11499-1725911100-1725919200@hhps.org.uk
SUMMARY:Members Evening - Debate
DESCRIPTION:Debate on “Photography Ethics: SmartPhones; AI; Art photography; other issues” (+/- Complete Summer Break Images)
URL:https://hhps.org.uk/event/members-evening-3/
END:VEVENT
BEGIN:VEVENT
DTSTART;TZID=Europe/London:20240902T194500
DTEND;TZID=Europe/London:20240902T220000
DTSTAMP:20260423T170714
CREATED:20240716T160200Z
LAST-MODIFIED:20240716T160438Z
UID:11497-1725306300-1725314400@hhps.org.uk
SUMMARY:Welcome to Our New Season - Presentation of Awards 2023/2024\, Summer Holiday Images.
DESCRIPTION:
URL:https://hhps.org.uk/event/welcome-to-our-new-season-presentation-of-awards-2023-2024-summer-holiday-images/
END:VEVENT
BEGIN:VEVENT
DTSTART;TZID=Europe/London:20240826T194500
DTEND;TZID=Europe/London:20240826T220000
DTSTAMP:20260423T170715
CREATED:20240716T162427Z
LAST-MODIFIED:20240716T162429Z
UID:11505-1724701500-1724709600@hhps.org.uk
SUMMARY:Summer Break Images
DESCRIPTION:Images taken from 1st June 2024 onwards \n\n\n\nSubmit 3PDIs for Summer Break competition
URL:https://hhps.org.uk/event/summer-break-images/
END:VEVENT
BEGIN:VEVENT
DTSTART;TZID=Europe/London:20240825T080000
DTEND;TZID=Europe/London:20240825T170000
DTSTAMP:20260423T170715
CREATED:20240419T153750Z
LAST-MODIFIED:20240716T162545Z
UID:11335-1724572800-1724605200@hhps.org.uk
SUMMARY:Club closed for Summer - see you in September
DESCRIPTION:
URL:https://hhps.org.uk/event/club-closed-for-summer-see-you-in-september/
END:VEVENT
BEGIN:VEVENT
DTSTART;TZID=Europe/London:20240624T194500
DTEND;TZID=Europe/London:20240624T220000
DTSTAMP:20260423T170715
CREATED:20240419T153523Z
LAST-MODIFIED:20240419T153525Z
UID:11333-1719258300-1719266400@hhps.org.uk
SUMMARY:AGM
DESCRIPTION:
URL:https://hhps.org.uk/event/agm-3/
END:VEVENT
BEGIN:VEVENT
DTSTART;TZID=Europe/London:20240617T194500
DTEND;TZID=Europe/London:20240617T220000
DTSTAMP:20260423T170715
CREATED:20240419T153439Z
LAST-MODIFIED:20240419T161407Z
UID:11331-1718653500-1718661600@hhps.org.uk
SUMMARY:Annual Awards Commentary                                 - Judge: Chris Forster
DESCRIPTION:
URL:https://hhps.org.uk/event/annual-awards-commentary-2/
END:VEVENT
BEGIN:VEVENT
DTSTART;TZID=Europe/London:20240610T193000
DTEND;TZID=Europe/London:20240610T220000
DTSTAMP:20260423T170715
CREATED:20240419T152840Z
LAST-MODIFIED:20240530T170653Z
UID:11328-1718047800-1718056800@hhps.org.uk
SUMMARY:Hidden Secrets Tour - Chesham
DESCRIPTION:A guided walk with facts curated by Emyr in Chesham. Bring your cameras. \n\n\n\nMeet at 7.00 at the Waterside Car Park in Chesham (it’s free after 6.00) \n\n\n\nMeet at the centre of the car park by the pay machine. The walk will last about an hour and a half and end up in the Queens Head pub
URL:https://hhps.org.uk/event/hidden-secrets-tour/
END:VEVENT
BEGIN:VEVENT
DTSTART;TZID=Europe/London:20240603T183000
DTEND;TZID=Europe/London:20240603T220000
DTSTAMP:20260423T170715
CREATED:20240419T152716Z
LAST-MODIFIED:20240530T095947Z
UID:11326-1717439400-1717452000@hhps.org.uk
SUMMARY:A Summer Walk - St Alban Verulamium Park
DESCRIPTION:Meet at 6.30pm at car park near Verulamium Museum \n\n\n\n\n\nImages can be used for September’s welcome night
URL:https://hhps.org.uk/event/a-summer-walk-around-ashridge/
END:VEVENT
BEGIN:VEVENT
DTSTART;TZID=Europe/London:20240527T194500
DTEND;TZID=Europe/London:20240527T220000
DTSTAMP:20260423T170715
CREATED:20240419T152519Z
LAST-MODIFIED:20240419T152520Z
UID:11324-1716839100-1716847200@hhps.org.uk
SUMMARY:No Meeting – Bank Holiday
DESCRIPTION:
URL:https://hhps.org.uk/event/no-meeting-bank-holiday-4/
END:VEVENT
BEGIN:VEVENT
DTSTART;TZID=Europe/London:20240520T194500
DTEND;TZID=Europe/London:20240520T220000
DTSTAMP:20260423T170715
CREATED:20240419T152158Z
LAST-MODIFIED:20240419T152200Z
UID:11321-1716234300-1716242400@hhps.org.uk
SUMMARY:Set Subject Competition – “Food and/or Drink”. Comments by members.
DESCRIPTION:Bring in prints for the Annual Awards
URL:https://hhps.org.uk/event/set-subject-competition-food-and-or-drink-comments-by-members/
END:VEVENT
BEGIN:VEVENT
DTSTART;TZID=Europe/London:20240513T194500
DTEND;TZID=Europe/London:20240513T220000
DTSTAMP:20260423T170715
CREATED:20240419T151811Z
LAST-MODIFIED:20240419T151816Z
UID:11318-1715629500-1715637600@hhps.org.uk
SUMMARY:Members' Evening – I Was Robbed
DESCRIPTION:(images you felt under-scored) \n\n\n\n\n\nSubmit 3 PDIs for Set Subject Competition \n\n\n\nSubmit DPIs & register prints for Annual Awards
URL:https://hhps.org.uk/event/members-evening-i-was-robbed/
END:VEVENT
BEGIN:VEVENT
DTSTART;TZID=Europe/London:20240506T194500
DTEND;TZID=Europe/London:20240506T220000
DTSTAMP:20260423T170715
CREATED:20240419T145808Z
LAST-MODIFIED:20240419T145809Z
UID:11315-1715024700-1715032800@hhps.org.uk
SUMMARY:No Meeting – Bank Holiday
DESCRIPTION:Submit 3 PDIs for I WAS ROBBED (provide PDI versions if the original entry was a print)
URL:https://hhps.org.uk/event/no-meeting-bank-holiday-3/
END:VEVENT
BEGIN:VEVENT
DTSTART;TZID=Europe/London:20240502T193000
DTEND;TZID=Europe/London:20240502T220000
DTSTAMP:20260423T170715
CREATED:20240419T145545Z
LAST-MODIFIED:20240419T152342Z
UID:11313-1714678200-1714687200@hhps.org.uk
SUMMARY:Match an image competition\, hosted by Tring CC - Thursday
DESCRIPTION:
URL:https://hhps.org.uk/event/match-an-image-competition-hosted-by-tring-cc/
END:VEVENT
BEGIN:VEVENT
DTSTART;TZID=Europe/London:20240429T194500
DTEND;TZID=Europe/London:20240429T220000
DTSTAMP:20260423T170715
CREATED:20240114T161718Z
LAST-MODIFIED:20240114T161720Z
UID:10954-1714419900-1714428000@hhps.org.uk
SUMMARY:4th Mono Print Competition
DESCRIPTION:Judge: Kathy Chantler
URL:https://hhps.org.uk/event/4th-mono-print-competition-2/
END:VEVENT
BEGIN:VEVENT
DTSTART;TZID=Europe/London:20240422T194500
DTEND;TZID=Europe/London:20240422T220000
DTSTAMP:20260423T170715
CREATED:20240114T161543Z
LAST-MODIFIED:20240419T145911Z
UID:10952-1713815100-1713823200@hhps.org.uk
SUMMARY:Set Subject Competition – “Two or More People\, But Not a Crowd” - NOW ZOOM
DESCRIPTION:Images can be candid or posed. \n\n\n\nJudge: Michael Lurie \n\n\n\nRegister 3 Prints for 4th Mono Print Competition
URL:https://hhps.org.uk/event/set-subject-competition-two-or-more-people-but-not-a-crowd/
END:VEVENT
BEGIN:VEVENT
DTSTART;TZID=Europe/London:20240418T194500
DTEND;TZID=Europe/London:20240418T220000
DTSTAMP:20260423T170715
CREATED:20240114T161318Z
LAST-MODIFIED:20240114T161319Z
UID:10949-1713469500-1713477600@hhps.org.uk
SUMMARY:Studio Shoot – 1-1 Portraits with a model
DESCRIPTION:A maximum of 6 members can shoot. \n\n\n\nRun by John Marshall and Rob Harley.
URL:https://hhps.org.uk/event/studio-shoot-1-1-portraits-with-a-model-2/
END:VEVENT
BEGIN:VEVENT
DTSTART;TZID=Europe/London:20240415T194500
DTEND;TZID=Europe/London:20240415T220000
DTSTAMP:20260423T170715
CREATED:20240114T161128Z
LAST-MODIFIED:20240114T161355Z
UID:10947-1713210300-1713218400@hhps.org.uk
SUMMARY:Presentation Speaker  -  by ZOOM
DESCRIPTION:Landscape – A Visual Signature by Andy Philips \n\n\n\nSubmit 3 PDIs for Set Subject Competition
URL:https://hhps.org.uk/event/presentation-speaker-by-zoom-6/
END:VEVENT
BEGIN:VEVENT
DTSTART;TZID=Europe/London:20240408T194500
DTEND;TZID=Europe/London:20240408T220000
DTSTAMP:20260423T170715
CREATED:20240114T160957Z
LAST-MODIFIED:20240114T161001Z
UID:10945-1712605500-1712613600@hhps.org.uk
SUMMARY:4th Colour Print Competition
DESCRIPTION:Judge: TBC
URL:https://hhps.org.uk/event/4th-colour-print-competition/
END:VEVENT
BEGIN:VEVENT
DTSTART;TZID=Europe/London:20240404T193000
DTEND;TZID=Europe/London:20240404T220000
DTSTAMP:20260423T170715
CREATED:20240114T160757Z
LAST-MODIFIED:20240114T160842Z
UID:10942-1712259000-1712268000@hhps.org.uk
SUMMARY:Social (Thursday)
DESCRIPTION:A Canal Walk – Details TBC
URL:https://hhps.org.uk/event/social/
END:VEVENT
BEGIN:VEVENT
DTSTART;TZID=Europe/London:20240401T194500
DTEND;TZID=Europe/London:20240401T220000
DTSTAMP:20260423T170715
CREATED:20240114T160651Z
LAST-MODIFIED:20240114T160655Z
UID:10940-1712000700-1712008800@hhps.org.uk
SUMMARY:No Meeting – Bank Holiday
DESCRIPTION:Register 3 Prints for 4th Colour Print Competition
URL:https://hhps.org.uk/event/no-meeting-bank-holiday-2/
END:VEVENT
BEGIN:VEVENT
DTSTART;TZID=Europe/London:20240325T194500
DTEND;TZID=Europe/London:20240325T220000
DTSTAMP:20260423T170715
CREATED:20240114T160505Z
LAST-MODIFIED:20240114T160514Z
UID:10938-1711395900-1711404000@hhps.org.uk
SUMMARY:4th PDI Competition
DESCRIPTION:Judge: Cat Humphries
URL:https://hhps.org.uk/event/4th-pdi-competition/
END:VEVENT
END:VCALENDAR