BEGIN:VCALENDAR
VERSION:2.0
PRODID:-//HEMEL HEMPSTEAD PHOTOGRAPHIC SOCIETY - ECPv6.15.20//NONSGML v1.0//EN
CALSCALE:GREGORIAN
METHOD:PUBLISH
X-WR-CALNAME:HEMEL HEMPSTEAD PHOTOGRAPHIC SOCIETY
X-ORIGINAL-URL:https://hhps.org.uk
X-WR-CALDESC:Events for HEMEL HEMPSTEAD PHOTOGRAPHIC SOCIETY
REFRESH-INTERVAL;VALUE=DURATION:PT1H
X-Robots-Tag:noindex
X-PUBLISHED-TTL:PT1H
BEGIN:VTIMEZONE
TZID:Europe/London
BEGIN:DAYLIGHT
TZOFFSETFROM:+0000
TZOFFSETTO:+0100
TZNAME:BST
DTSTART:20220327T010000
END:DAYLIGHT
BEGIN:STANDARD
TZOFFSETFROM:+0100
TZOFFSETTO:+0000
TZNAME:GMT
DTSTART:20221030T010000
END:STANDARD
BEGIN:DAYLIGHT
TZOFFSETFROM:+0000
TZOFFSETTO:+0100
TZNAME:BST
DTSTART:20230326T010000
END:DAYLIGHT
BEGIN:STANDARD
TZOFFSETFROM:+0100
TZOFFSETTO:+0000
TZNAME:GMT
DTSTART:20231029T010000
END:STANDARD
BEGIN:DAYLIGHT
TZOFFSETFROM:+0000
TZOFFSETTO:+0100
TZNAME:BST
DTSTART:20240331T010000
END:DAYLIGHT
BEGIN:STANDARD
TZOFFSETFROM:+0100
TZOFFSETTO:+0000
TZNAME:GMT
DTSTART:20241027T010000
END:STANDARD
BEGIN:DAYLIGHT
TZOFFSETFROM:+0000
TZOFFSETTO:+0100
TZNAME:BST
DTSTART:20250330T010000
END:DAYLIGHT
BEGIN:STANDARD
TZOFFSETFROM:+0100
TZOFFSETTO:+0000
TZNAME:GMT
DTSTART:20251026T010000
END:STANDARD
END:VTIMEZONE
BEGIN:VEVENT
DTSTART;TZID=Europe/London:20240603T183000
DTEND;TZID=Europe/London:20240603T220000
DTSTAMP:20260423T225250
CREATED:20240419T152716Z
LAST-MODIFIED:20240530T095947Z
UID:11326-1717439400-1717452000@hhps.org.uk
SUMMARY:A Summer Walk - St Alban Verulamium Park
DESCRIPTION:Meet at 6.30pm at car park near Verulamium Museum \n\n\n\n\n\nImages can be used for September’s welcome night
URL:https://hhps.org.uk/event/a-summer-walk-around-ashridge/
END:VEVENT
BEGIN:VEVENT
DTSTART;TZID=Europe/London:20240527T194500
DTEND;TZID=Europe/London:20240527T220000
DTSTAMP:20260423T225250
CREATED:20240419T152519Z
LAST-MODIFIED:20240419T152520Z
UID:11324-1716839100-1716847200@hhps.org.uk
SUMMARY:No Meeting – Bank Holiday
DESCRIPTION:
URL:https://hhps.org.uk/event/no-meeting-bank-holiday-4/
END:VEVENT
BEGIN:VEVENT
DTSTART;TZID=Europe/London:20240520T194500
DTEND;TZID=Europe/London:20240520T220000
DTSTAMP:20260423T225250
CREATED:20240419T152158Z
LAST-MODIFIED:20240419T152200Z
UID:11321-1716234300-1716242400@hhps.org.uk
SUMMARY:Set Subject Competition – “Food and/or Drink”. Comments by members.
DESCRIPTION:Bring in prints for the Annual Awards
URL:https://hhps.org.uk/event/set-subject-competition-food-and-or-drink-comments-by-members/
END:VEVENT
BEGIN:VEVENT
DTSTART;TZID=Europe/London:20240513T194500
DTEND;TZID=Europe/London:20240513T220000
DTSTAMP:20260423T225250
CREATED:20240419T151811Z
LAST-MODIFIED:20240419T151816Z
UID:11318-1715629500-1715637600@hhps.org.uk
SUMMARY:Members' Evening – I Was Robbed
DESCRIPTION:(images you felt under-scored) \n\n\n\n\n\nSubmit 3 PDIs for Set Subject Competition \n\n\n\nSubmit DPIs & register prints for Annual Awards
URL:https://hhps.org.uk/event/members-evening-i-was-robbed/
END:VEVENT
BEGIN:VEVENT
DTSTART;TZID=Europe/London:20240506T194500
DTEND;TZID=Europe/London:20240506T220000
DTSTAMP:20260423T225250
CREATED:20240419T145808Z
LAST-MODIFIED:20240419T145809Z
UID:11315-1715024700-1715032800@hhps.org.uk
SUMMARY:No Meeting – Bank Holiday
DESCRIPTION:Submit 3 PDIs for I WAS ROBBED (provide PDI versions if the original entry was a print)
URL:https://hhps.org.uk/event/no-meeting-bank-holiday-3/
END:VEVENT
BEGIN:VEVENT
DTSTART;TZID=Europe/London:20240502T193000
DTEND;TZID=Europe/London:20240502T220000
DTSTAMP:20260423T225250
CREATED:20240419T145545Z
LAST-MODIFIED:20240419T152342Z
UID:11313-1714678200-1714687200@hhps.org.uk
SUMMARY:Match an image competition\, hosted by Tring CC - Thursday
DESCRIPTION:
URL:https://hhps.org.uk/event/match-an-image-competition-hosted-by-tring-cc/
END:VEVENT
BEGIN:VEVENT
DTSTART;TZID=Europe/London:20240429T194500
DTEND;TZID=Europe/London:20240429T220000
DTSTAMP:20260423T225250
CREATED:20240114T161718Z
LAST-MODIFIED:20240114T161720Z
UID:10954-1714419900-1714428000@hhps.org.uk
SUMMARY:4th Mono Print Competition
DESCRIPTION:Judge: Kathy Chantler
URL:https://hhps.org.uk/event/4th-mono-print-competition-2/
END:VEVENT
BEGIN:VEVENT
DTSTART;TZID=Europe/London:20240422T194500
DTEND;TZID=Europe/London:20240422T220000
DTSTAMP:20260423T225250
CREATED:20240114T161543Z
LAST-MODIFIED:20240419T145911Z
UID:10952-1713815100-1713823200@hhps.org.uk
SUMMARY:Set Subject Competition – “Two or More People\, But Not a Crowd” - NOW ZOOM
DESCRIPTION:Images can be candid or posed. \n\n\n\nJudge: Michael Lurie \n\n\n\nRegister 3 Prints for 4th Mono Print Competition
URL:https://hhps.org.uk/event/set-subject-competition-two-or-more-people-but-not-a-crowd/
END:VEVENT
BEGIN:VEVENT
DTSTART;TZID=Europe/London:20240418T194500
DTEND;TZID=Europe/London:20240418T220000
DTSTAMP:20260423T225250
CREATED:20240114T161318Z
LAST-MODIFIED:20240114T161319Z
UID:10949-1713469500-1713477600@hhps.org.uk
SUMMARY:Studio Shoot – 1-1 Portraits with a model
DESCRIPTION:A maximum of 6 members can shoot. \n\n\n\nRun by John Marshall and Rob Harley.
URL:https://hhps.org.uk/event/studio-shoot-1-1-portraits-with-a-model-2/
END:VEVENT
BEGIN:VEVENT
DTSTART;TZID=Europe/London:20240415T194500
DTEND;TZID=Europe/London:20240415T220000
DTSTAMP:20260423T225250
CREATED:20240114T161128Z
LAST-MODIFIED:20240114T161355Z
UID:10947-1713210300-1713218400@hhps.org.uk
SUMMARY:Presentation Speaker  -  by ZOOM
DESCRIPTION:Landscape – A Visual Signature by Andy Philips \n\n\n\nSubmit 3 PDIs for Set Subject Competition
URL:https://hhps.org.uk/event/presentation-speaker-by-zoom-6/
END:VEVENT
BEGIN:VEVENT
DTSTART;TZID=Europe/London:20240408T194500
DTEND;TZID=Europe/London:20240408T220000
DTSTAMP:20260423T225250
CREATED:20240114T160957Z
LAST-MODIFIED:20240114T161001Z
UID:10945-1712605500-1712613600@hhps.org.uk
SUMMARY:4th Colour Print Competition
DESCRIPTION:Judge: TBC
URL:https://hhps.org.uk/event/4th-colour-print-competition/
END:VEVENT
BEGIN:VEVENT
DTSTART;TZID=Europe/London:20240404T193000
DTEND;TZID=Europe/London:20240404T220000
DTSTAMP:20260423T225250
CREATED:20240114T160757Z
LAST-MODIFIED:20240114T160842Z
UID:10942-1712259000-1712268000@hhps.org.uk
SUMMARY:Social (Thursday)
DESCRIPTION:A Canal Walk – Details TBC
URL:https://hhps.org.uk/event/social/
END:VEVENT
BEGIN:VEVENT
DTSTART;TZID=Europe/London:20240401T194500
DTEND;TZID=Europe/London:20240401T220000
DTSTAMP:20260423T225250
CREATED:20240114T160651Z
LAST-MODIFIED:20240114T160655Z
UID:10940-1712000700-1712008800@hhps.org.uk
SUMMARY:No Meeting – Bank Holiday
DESCRIPTION:Register 3 Prints for 4th Colour Print Competition
URL:https://hhps.org.uk/event/no-meeting-bank-holiday-2/
END:VEVENT
BEGIN:VEVENT
DTSTART;TZID=Europe/London:20240325T194500
DTEND;TZID=Europe/London:20240325T220000
DTSTAMP:20260423T225250
CREATED:20240114T160505Z
LAST-MODIFIED:20240114T160514Z
UID:10938-1711395900-1711404000@hhps.org.uk
SUMMARY:4th PDI Competition
DESCRIPTION:Judge: Cat Humphries
URL:https://hhps.org.uk/event/4th-pdi-competition/
END:VEVENT
BEGIN:VEVENT
DTSTART;TZID=Europe/London:20240318T194500
DTEND;TZID=Europe/London:20240318T220000
DTSTAMP:20260423T225250
CREATED:20240114T160357Z
LAST-MODIFIED:20240114T160404Z
UID:10936-1710791100-1710799200@hhps.org.uk
SUMMARY:Set Subject Competition – “Impact"
DESCRIPTION:– Winner to be used for 2024-2025 HHPS Flyer”. – Comments by members. \n\n\n\n\n\nSubmit 3 DPIs for the 4th PDI Competition
URL:https://hhps.org.uk/event/set-subject-competition-impact/
END:VEVENT
BEGIN:VEVENT
DTSTART;TZID=Europe/London:20240311T194500
DTEND;TZID=Europe/London:20240311T220000
DTSTAMP:20260423T225250
CREATED:20240114T160124Z
LAST-MODIFIED:20240114T160126Z
UID:10934-1710186300-1710194400@hhps.org.uk
SUMMARY:Members’ Evening – All Shoot
DESCRIPTION:Everyone present is encouraged to take portraits of the model \n\n\n\nSubmit 3 PDIs for Set Subject Competition
URL:https://hhps.org.uk/event/members-evening-all-shoot-2/
END:VEVENT
BEGIN:VEVENT
DTSTART;TZID=Europe/London:20240304T194500
DTEND;TZID=Europe/London:20240304T220000
DTSTAMP:20260423T225250
CREATED:20240114T155835Z
LAST-MODIFIED:20240114T155836Z
UID:10932-1709581500-1709589600@hhps.org.uk
SUMMARY:3rd Mono Print Competition
DESCRIPTION:Judge: Alan Copeland
URL:https://hhps.org.uk/event/3rd-mono-print-competition/
END:VEVENT
BEGIN:VEVENT
DTSTART;TZID=Europe/London:20240227T194500
DTEND;TZID=Europe/London:20240227T220000
DTSTAMP:20260423T225250
CREATED:20240114T155640Z
LAST-MODIFIED:20240205T104907Z
UID:10930-1709063100-1709071200@hhps.org.uk
SUMMARY:External Competition - RoseBowl\, Rnd 3 (Tuesday)
DESCRIPTION:Hosted by Marlow.  15 PDIs.   By ZOOM.
URL:https://hhps.org.uk/event/external-competition-rosebowl-rnd-3/
END:VEVENT
BEGIN:VEVENT
DTSTART;TZID=Europe/London:20240226T194500
DTEND;TZID=Europe/London:20240226T220000
DTSTAMP:20260423T225250
CREATED:20240114T155502Z
LAST-MODIFIED:20240205T104950Z
UID:10928-1708976700-1708984800@hhps.org.uk
SUMMARY:Set Subject Competition – “Dark”
DESCRIPTION:Images can evoke a dark mood or be low-key.  Comments by Members. \n\n\n\n\n\nRegister 3 Prints for the 3rd Mono Print Competition
URL:https://hhps.org.uk/event/set-subject-competition-dark/
END:VEVENT
BEGIN:VEVENT
DTSTART;TZID=Europe/London:20240219T194500
DTEND;TZID=Europe/London:20240219T220000
DTSTAMP:20260423T225250
CREATED:20240114T155327Z
LAST-MODIFIED:20240114T155330Z
UID:10926-1708371900-1708380000@hhps.org.uk
SUMMARY:3rd Colour Print Competition
DESCRIPTION:Judge: Alan Taberer \n\n\n\nSubmit 3 PDIs for Set Subject Competition
URL:https://hhps.org.uk/event/3rd-colour-print-competition/
END:VEVENT
BEGIN:VEVENT
DTSTART;TZID=Europe/London:20240212T194500
DTEND;TZID=Europe/London:20240212T220000
DTSTAMP:20260423T225250
CREATED:20240114T155100Z
LAST-MODIFIED:20240114T155128Z
UID:10923-1707767100-1707775200@hhps.org.uk
SUMMARY:Presentation Speaker  -  by ZOOM
DESCRIPTION:“Flora 1 – Outdoor plant and Fungi images” by Tony North \n\n\n\nRegister 3 Prints for 3rd Colour Print Competition
URL:https://hhps.org.uk/event/presentation-speaker-by-zoom-5/
END:VEVENT
BEGIN:VEVENT
DTSTART;TZID=Europe/London:20240205T194500
DTEND;TZID=Europe/London:20240205T220000
DTSTAMP:20260423T225250
CREATED:20240114T154812Z
LAST-MODIFIED:20240114T154813Z
UID:10919-1707162300-1707170400@hhps.org.uk
SUMMARY:3rd PDI Competition
DESCRIPTION:Judge: Dave Hipperson
URL:https://hhps.org.uk/event/3rd-pdi-competition/
END:VEVENT
BEGIN:VEVENT
DTSTART;TZID=Europe/London:20240129T194500
DTEND;TZID=Europe/London:20240129T220000
DTSTAMP:20260423T225250
CREATED:20231109T172146Z
LAST-MODIFIED:20231109T172147Z
UID:10841-1706557500-1706565600@hhps.org.uk
SUMMARY:External Competition - RoseBowl\, Rnd 2 - ZOOM
DESCRIPTION:Hosted by HHPS.  15 DPIs.  \n\n\n\n\n\nSubmit 3 DPIs for the 3rd PDI Competition
URL:https://hhps.org.uk/event/external-competition-rosebowl-rnd-2-zoom/
END:VEVENT
BEGIN:VEVENT
DTSTART;TZID=Europe/London:20240122T194500
DTEND;TZID=Europe/London:20240122T220000
DTSTAMP:20260423T225250
CREATED:20231109T171935Z
LAST-MODIFIED:20231109T171936Z
UID:10839-1705952700-1705960800@hhps.org.uk
SUMMARY:2nd Mono Print Competition
DESCRIPTION:Judge: Steven Galvin
URL:https://hhps.org.uk/event/2nd-mono-print-competition/
END:VEVENT
BEGIN:VEVENT
DTSTART;TZID=Europe/London:20240115T191500
DTEND;TZID=Europe/London:20240115T220000
DTSTAMP:20260423T225250
CREATED:20231109T171820Z
LAST-MODIFIED:20240114T154948Z
UID:10837-1705346100-1705356000@hhps.org.uk
SUMMARY:Presentation Speaker  -  by ZOOM
DESCRIPTION:“Flash Techniques for Wildlife” by Kevin Pigney (talk starts 7.30) \n\n\n\n\n\nRegister 3 Prints for the 2ndMono Print Competition
URL:https://hhps.org.uk/event/presentation-speaker-by-zoom-4/
END:VEVENT
BEGIN:VEVENT
DTSTART;TZID=Europe/London:20240108T194500
DTEND;TZID=Europe/London:20240108T220000
DTSTAMP:20260423T225250
CREATED:20231109T171633Z
LAST-MODIFIED:20231109T171635Z
UID:10835-1704743100-1704751200@hhps.org.uk
SUMMARY:2nd Colour Print Competition
DESCRIPTION:Judge: Peter Prosser
URL:https://hhps.org.uk/event/2nd-colour-print-competition/
END:VEVENT
BEGIN:VEVENT
DTSTART;TZID=Europe/London:20240101T194500
DTEND;TZID=Europe/London:20240101T220000
DTSTAMP:20260423T225250
CREATED:20231109T171520Z
LAST-MODIFIED:20231109T171521Z
UID:10833-1704138300-1704146400@hhps.org.uk
SUMMARY:No Meeting – Bank Holiday
DESCRIPTION:Register 3 Prints for 2nd Colour Print Competition
URL:https://hhps.org.uk/event/no-meeting-bank-holiday/
END:VEVENT
BEGIN:VEVENT
DTSTART;TZID=Europe/London:20231218T194500
DTEND;TZID=Europe/London:20231218T220000
DTSTAMP:20260423T225250
CREATED:20231109T171343Z
LAST-MODIFIED:20231109T171344Z
UID:10831-1702928700-1702936800@hhps.org.uk
SUMMARY:Quiz/Christmas Party
DESCRIPTION:Last meeting of 2023
URL:https://hhps.org.uk/event/quiz-christmas-party-2/
END:VEVENT
BEGIN:VEVENT
DTSTART;TZID=Europe/London:20231211T194500
DTEND;TZID=Europe/London:20231211T220000
DTSTAMP:20260423T225250
CREATED:20231109T171118Z
LAST-MODIFIED:20231109T171119Z
UID:10829-1702323900-1702332000@hhps.org.uk
SUMMARY:2nd PDI Competition
DESCRIPTION:Judge: Peter Cox
URL:https://hhps.org.uk/event/2nd-pdi-competition/
END:VEVENT
BEGIN:VEVENT
DTSTART;TZID=Europe/London:20231207T194500
DTEND;TZID=Europe/London:20231207T220000
DTSTAMP:20260423T225250
CREATED:20231109T170841Z
LAST-MODIFIED:20231109T172443Z
UID:10826-1701978300-1701986400@hhps.org.uk
SUMMARY:Studio Shoot – 1-1 Portraits with a model - Thursday
DESCRIPTION:A maximum of 6 members can shoot. Run by John Marshall and Rob Harley.
URL:https://hhps.org.uk/event/studio-shoot-1-1-portraits-with-a-model/
END:VEVENT
END:VCALENDAR