BEGIN:VCALENDAR
VERSION:2.0
PRODID:-//HEMEL HEMPSTEAD PHOTOGRAPHIC SOCIETY - ECPv6.15.20//NONSGML v1.0//EN
CALSCALE:GREGORIAN
METHOD:PUBLISH
X-ORIGINAL-URL:https://hhps.org.uk
X-WR-CALDESC:Events for HEMEL HEMPSTEAD PHOTOGRAPHIC SOCIETY
REFRESH-INTERVAL;VALUE=DURATION:PT1H
X-Robots-Tag:noindex
X-PUBLISHED-TTL:PT1H
BEGIN:VTIMEZONE
TZID:Europe/London
BEGIN:DAYLIGHT
TZOFFSETFROM:+0000
TZOFFSETTO:+0100
TZNAME:BST
DTSTART:20250330T010000
END:DAYLIGHT
BEGIN:STANDARD
TZOFFSETFROM:+0100
TZOFFSETTO:+0000
TZNAME:GMT
DTSTART:20251026T010000
END:STANDARD
BEGIN:DAYLIGHT
TZOFFSETFROM:+0000
TZOFFSETTO:+0100
TZNAME:BST
DTSTART:20260329T010000
END:DAYLIGHT
BEGIN:STANDARD
TZOFFSETFROM:+0100
TZOFFSETTO:+0000
TZNAME:GMT
DTSTART:20261025T010000
END:STANDARD
BEGIN:DAYLIGHT
TZOFFSETFROM:+0000
TZOFFSETTO:+0100
TZNAME:BST
DTSTART:20270328T010000
END:DAYLIGHT
BEGIN:STANDARD
TZOFFSETFROM:+0100
TZOFFSETTO:+0000
TZNAME:GMT
DTSTART:20271031T010000
END:STANDARD
END:VTIMEZONE
BEGIN:VEVENT
DTSTART;TZID=Europe/London:20260504T193000
DTEND;TZID=Europe/London:20260504T220000
DTSTAMP:20260422T124826
CREATED:20260103T142656Z
LAST-MODIFIED:20260103T142705Z
UID:12670-1777923000-1777932000@hhps.org.uk
SUMMARY:No Meeting: Bank Holiday
DESCRIPTION:Submit up to 3 DPIs for “I Was Robbed”
URL:https://hhps.org.uk/event/no-meeting-bank-holiday-9/
END:VEVENT
BEGIN:VEVENT
DTSTART;TZID=Europe/London:20260511T194500
DTEND;TZID=Europe/London:20260511T220000
DTSTAMP:20260422T124826
CREATED:20260103T142853Z
LAST-MODIFIED:20260103T142859Z
UID:12672-1778528700-1778536800@hhps.org.uk
SUMMARY:Set Subject: I Was Robbed
DESCRIPTION:Submit DPIs/register prints for Annual Awards. \n\n\n\nSubmit up to 3 DPIs for “Two or more people\, but not acrowd”
URL:https://hhps.org.uk/event/set-subject-i-was-robbed/
END:VEVENT
BEGIN:VEVENT
DTSTART;TZID=Europe/London:20260518T194500
DTEND;TZID=Europe/London:20260518T220000
DTSTAMP:20260422T124826
CREATED:20260103T143200Z
LAST-MODIFIED:20260103T150225Z
UID:12676-1779133500-1779141600@hhps.org.uk
SUMMARY:Set Subject Competition: Two or more people\, but not a crowd.
DESCRIPTION:Judge: TBD. \n\n\n\n\n\nBring in Annual Award prints (with JS nos.).
URL:https://hhps.org.uk/event/set-subject-competition-two-or-morepeople-but-not-a-crowd/
END:VEVENT
BEGIN:VEVENT
DTSTART;TZID=Europe/London:20260521T193000
DTEND;TZID=Europe/London:20260521T220000
DTSTAMP:20260422T124826
CREATED:20260103T143016Z
LAST-MODIFIED:20260206T163131Z
UID:12674-1779391800-1779400800@hhps.org.uk
SUMMARY:Studio Shoot of portraits 1-to-1 with model - Thursday
DESCRIPTION:Model TBD. A max of 6 members can shoot.Run by John Marshall and Rob Harley.
URL:https://hhps.org.uk/event/studio-shoot-of-portraits-1-to-1-with-model-thursday/
END:VEVENT
BEGIN:VEVENT
DTSTART;TZID=Europe/London:20260525T194500
DTEND;TZID=Europe/London:20260525T220000
DTSTAMP:20260422T124826
CREATED:20260103T150319Z
LAST-MODIFIED:20260103T150324Z
UID:12679-1779738300-1779746400@hhps.org.uk
SUMMARY:No Meeting: Bank Holiday
DESCRIPTION:
URL:https://hhps.org.uk/event/no-meeting-bank-holiday-10/
END:VEVENT
END:VCALENDAR